BEGIN:VCALENDAR
VERSION:2.0
PRODID:-//Fisher Center at Bard - ECPv6.15.17//NONSGML v1.0//EN
CALSCALE:GREGORIAN
METHOD:PUBLISH
X-WR-CALNAME:Fisher Center at Bard
X-ORIGINAL-URL:https://fishercenter.bard.edu
X-WR-CALDESC:Events for Fisher Center at Bard
REFRESH-INTERVAL;VALUE=DURATION:PT1H
X-Robots-Tag:noindex
X-PUBLISHED-TTL:PT1H
BEGIN:VTIMEZONE
TZID:America/New_York
BEGIN:DAYLIGHT
TZOFFSETFROM:-0500
TZOFFSETTO:-0400
TZNAME:EDT
DTSTART:20110313T070000
END:DAYLIGHT
BEGIN:STANDARD
TZOFFSETFROM:-0400
TZOFFSETTO:-0500
TZNAME:EST
DTSTART:20111106T060000
END:STANDARD
BEGIN:DAYLIGHT
TZOFFSETFROM:-0500
TZOFFSETTO:-0400
TZNAME:EDT
DTSTART:20120311T070000
END:DAYLIGHT
BEGIN:STANDARD
TZOFFSETFROM:-0400
TZOFFSETTO:-0500
TZNAME:EST
DTSTART:20121104T060000
END:STANDARD
BEGIN:DAYLIGHT
TZOFFSETFROM:-0500
TZOFFSETTO:-0400
TZNAME:EDT
DTSTART:20130310T070000
END:DAYLIGHT
BEGIN:STANDARD
TZOFFSETFROM:-0400
TZOFFSETTO:-0500
TZNAME:EST
DTSTART:20131103T060000
END:STANDARD
END:VTIMEZONE
BEGIN:VEVENT
DTSTART;VALUE=DATE:20120712
DTEND;VALUE=DATE:20120813
DTSTAMP:20260421T135822
CREATED:20211130T214424Z
LAST-MODIFIED:20211130T214424Z
UID:10004642-1342051200-1344815999@fishercenter.bard.edu
SUMMARY:Film Festival: France and the Colonial Imagination
DESCRIPTION:
URL:https://fishercenter.bard.edu/events/film-festival-france-and-the-colonial-imagination/
ATTACH;FMTTYPE=image/jpeg:https://fishercenter.bard.edu/wp-content/uploads/2021/11/114621.jpg
END:VEVENT
BEGIN:VEVENT
DTSTART;TZID=America/New_York:20120728T153000
DTEND;TZID=America/New_York:20120728T153000
DTSTAMP:20260421T135822
CREATED:20211130T214649Z
LAST-MODIFIED:20211130T214649Z
UID:10004701-1343489400-1343489400@fishercenter.bard.edu
SUMMARY:Afternoon Family Fare: Carnival of the Animals and Peter and the Wolf
DESCRIPTION:
URL:https://fishercenter.bard.edu/events/afternoon-family-fare-carnival-of-the-animals-and-peter-and-the-wolf/
ATTACH;FMTTYPE=image/jpeg:https://fishercenter.bard.edu/wp-content/uploads/2021/11/115036.jpg
END:VEVENT
BEGIN:VEVENT
DTSTART;TZID=America/New_York:20120728T203000
DTEND;TZID=America/New_York:20120728T203000
DTSTAMP:20260421T135822
CREATED:20211130T214605Z
LAST-MODIFIED:20211130T214605Z
UID:10004693-1343507400-1343507400@fishercenter.bard.edu
SUMMARY:Evening Cabaret: Weimar NYC
DESCRIPTION:
URL:https://fishercenter.bard.edu/events/evening-cabaret-weimar-nyc-4/
ATTACH;FMTTYPE=image/jpeg:https://fishercenter.bard.edu/wp-content/uploads/2021/11/115024.jpg
END:VEVENT
END:VCALENDAR