BEGIN:VCALENDAR
VERSION:2.0
PRODID:-//Fisher Center at Bard - ECPv6.15.17//NONSGML v1.0//EN
CALSCALE:GREGORIAN
METHOD:PUBLISH
X-ORIGINAL-URL:https://fishercenter.bard.edu
X-WR-CALDESC:Events for Fisher Center at Bard
REFRESH-INTERVAL;VALUE=DURATION:PT1H
X-Robots-Tag:noindex
X-PUBLISHED-TTL:PT1H
BEGIN:VTIMEZONE
TZID:America/New_York
BEGIN:DAYLIGHT
TZOFFSETFROM:-0500
TZOFFSETTO:-0400
TZNAME:EDT
DTSTART:20110313T070000
END:DAYLIGHT
BEGIN:STANDARD
TZOFFSETFROM:-0400
TZOFFSETTO:-0500
TZNAME:EST
DTSTART:20111106T060000
END:STANDARD
BEGIN:DAYLIGHT
TZOFFSETFROM:-0500
TZOFFSETTO:-0400
TZNAME:EDT
DTSTART:20120311T070000
END:DAYLIGHT
BEGIN:STANDARD
TZOFFSETFROM:-0400
TZOFFSETTO:-0500
TZNAME:EST
DTSTART:20121104T060000
END:STANDARD
BEGIN:DAYLIGHT
TZOFFSETFROM:-0500
TZOFFSETTO:-0400
TZNAME:EDT
DTSTART:20130310T070000
END:DAYLIGHT
BEGIN:STANDARD
TZOFFSETFROM:-0400
TZOFFSETTO:-0500
TZNAME:EST
DTSTART:20131103T060000
END:STANDARD
END:VTIMEZONE
BEGIN:VEVENT
DTSTART;VALUE=DATE:20120712
DTEND;VALUE=DATE:20120813
DTSTAMP:20260421T135831
CREATED:20211130T214424Z
LAST-MODIFIED:20211130T214424Z
UID:10004642-1342051200-1344815999@fishercenter.bard.edu
SUMMARY:Film Festival: France and the Colonial Imagination
DESCRIPTION:
URL:https://fishercenter.bard.edu/events/film-festival-france-and-the-colonial-imagination/
ATTACH;FMTTYPE=image/jpeg:https://fishercenter.bard.edu/wp-content/uploads/2021/11/114621.jpg
END:VEVENT
BEGIN:VEVENT
DTSTART;VALUE=DATE:20120805
DTEND;VALUE=DATE:20120806
DTSTAMP:20260421T135831
CREATED:20211130T214327Z
LAST-MODIFIED:20221114T202120Z
UID:10004127-1344124800-1344211199@fishercenter.bard.edu
SUMMARY:The King in Spite of Himself
DESCRIPTION:
URL:https://fishercenter.bard.edu/events/the-king-in-spite-of-himself/
LOCATION:Fisher Center\, Sosnoff Theater
CATEGORIES:Bard SummerScape
ATTACH;FMTTYPE=image/jpeg:https://fishercenter.bard.edu/wp-content/uploads/2021/11/114600.jpg
END:VEVENT
BEGIN:VEVENT
DTSTART;TZID=America/New_York:20120805T153000
DTEND;TZID=America/New_York:20120805T153000
DTSTAMP:20260421T135831
CREATED:20211130T214649Z
LAST-MODIFIED:20211130T214649Z
UID:10004704-1344180600-1344180600@fishercenter.bard.edu
SUMMARY:Afternoon Family Fare: The Little Farm Show
DESCRIPTION:
URL:https://fishercenter.bard.edu/events/afternoon-family-fare-the-little-farm-show/
ATTACH;FMTTYPE=image/jpeg:https://fishercenter.bard.edu/wp-content/uploads/2021/11/115039.jpg
END:VEVENT
BEGIN:VEVENT
DTSTART;TZID=America/New_York:20120805T190000
DTEND;TZID=America/New_York:20120805T190000
DTSTAMP:20260421T135831
CREATED:20211130T214438Z
LAST-MODIFIED:20211130T214438Z
UID:10004654-1344193200-1344193200@fishercenter.bard.edu
SUMMARY:Film: Beau Travail
DESCRIPTION:
URL:https://fishercenter.bard.edu/events/film-beau-travail/
END:VEVENT
END:VCALENDAR