BEGIN:VCALENDAR
VERSION:2.0
PRODID:-//Fisher Center at Bard - ECPv6.15.17//NONSGML v1.0//EN
CALSCALE:GREGORIAN
METHOD:PUBLISH
X-ORIGINAL-URL:https://fishercenter.bard.edu
X-WR-CALDESC:Events for Fisher Center at Bard
REFRESH-INTERVAL;VALUE=DURATION:PT1H
X-Robots-Tag:noindex
X-PUBLISHED-TTL:PT1H
BEGIN:VTIMEZONE
TZID:America/New_York
BEGIN:DAYLIGHT
TZOFFSETFROM:-0500
TZOFFSETTO:-0400
TZNAME:EDT
DTSTART:20110313T070000
END:DAYLIGHT
BEGIN:STANDARD
TZOFFSETFROM:-0400
TZOFFSETTO:-0500
TZNAME:EST
DTSTART:20111106T060000
END:STANDARD
BEGIN:DAYLIGHT
TZOFFSETFROM:-0500
TZOFFSETTO:-0400
TZNAME:EDT
DTSTART:20120311T070000
END:DAYLIGHT
BEGIN:STANDARD
TZOFFSETFROM:-0400
TZOFFSETTO:-0500
TZNAME:EST
DTSTART:20121104T060000
END:STANDARD
BEGIN:DAYLIGHT
TZOFFSETFROM:-0500
TZOFFSETTO:-0400
TZNAME:EDT
DTSTART:20130310T070000
END:DAYLIGHT
BEGIN:STANDARD
TZOFFSETFROM:-0400
TZOFFSETTO:-0500
TZNAME:EST
DTSTART:20131103T060000
END:STANDARD
END:VTIMEZONE
BEGIN:VEVENT
DTSTART;VALUE=DATE:20120817
DTEND;VALUE=DATE:20120818
DTSTAMP:20260421T153616
CREATED:20211130T214357Z
LAST-MODIFIED:20211130T214357Z
UID:10004143-1345161600-1345247999@fishercenter.bard.edu
SUMMARY:BMF Program Seven
DESCRIPTION:
URL:https://fishercenter.bard.edu/events/bmf-program-seven-4/
ATTACH;FMTTYPE=image/jpeg:https://fishercenter.bard.edu/wp-content/uploads/2021/11/114613.jpg
END:VEVENT
BEGIN:VEVENT
DTSTART;TZID=America/New_York:20120817T203000
DTEND;TZID=America/New_York:20120817T203000
DTSTAMP:20260421T153616
CREATED:20211130T214618Z
LAST-MODIFIED:20211130T214618Z
UID:10004697-1345235400-1345235400@fishercenter.bard.edu
SUMMARY:Evening Cabaret: Two Man Gentleman Band
DESCRIPTION:
URL:https://fishercenter.bard.edu/events/evening-cabaret-two-man-gentleman-band/
ATTACH;FMTTYPE=image/jpeg:https://fishercenter.bard.edu/wp-content/uploads/2021/11/115032-scaled.jpg
END:VEVENT
END:VCALENDAR