BEGIN:VCALENDAR
VERSION:2.0
PRODID:-//Fisher Center at Bard - ECPv6.15.17//NONSGML v1.0//EN
CALSCALE:GREGORIAN
METHOD:PUBLISH
X-WR-CALNAME:Fisher Center at Bard
X-ORIGINAL-URL:https://fishercenter.bard.edu
X-WR-CALDESC:Events for Fisher Center at Bard
REFRESH-INTERVAL;VALUE=DURATION:PT1H
X-Robots-Tag:noindex
X-PUBLISHED-TTL:PT1H
BEGIN:VTIMEZONE
TZID:America/New_York
BEGIN:DAYLIGHT
TZOFFSETFROM:-0500
TZOFFSETTO:-0400
TZNAME:EDT
DTSTART:20120311T070000
END:DAYLIGHT
BEGIN:STANDARD
TZOFFSETFROM:-0400
TZOFFSETTO:-0500
TZNAME:EST
DTSTART:20121104T060000
END:STANDARD
BEGIN:DAYLIGHT
TZOFFSETFROM:-0500
TZOFFSETTO:-0400
TZNAME:EDT
DTSTART:20130310T070000
END:DAYLIGHT
BEGIN:STANDARD
TZOFFSETFROM:-0400
TZOFFSETTO:-0500
TZNAME:EST
DTSTART:20131103T060000
END:STANDARD
BEGIN:DAYLIGHT
TZOFFSETFROM:-0500
TZOFFSETTO:-0400
TZNAME:EDT
DTSTART:20140309T070000
END:DAYLIGHT
BEGIN:STANDARD
TZOFFSETFROM:-0400
TZOFFSETTO:-0500
TZNAME:EST
DTSTART:20141102T060000
END:STANDARD
END:VTIMEZONE
BEGIN:VEVENT
DTSTART;VALUE=DATE:20130217
DTEND;VALUE=DATE:20130512
DTSTAMP:20260422T105807
CREATED:20211130T215616Z
LAST-MODIFIED:20211130T215616Z
UID:10004298-1361059200-1368316799@fishercenter.bard.edu
SUMMARY:The Bard College Conservatory of Music
DESCRIPTION:
URL:https://fishercenter.bard.edu/events/the-bard-college-conservatory-of-music-3/
ATTACH;FMTTYPE=image/jpeg:https://fishercenter.bard.edu/wp-content/uploads/2021/11/117515.jpg
END:VEVENT
BEGIN:VEVENT
DTSTART;VALUE=DATE:20130315
DTEND;VALUE=DATE:20130318
DTSTAMP:20260422T105807
CREATED:20211130T215534Z
LAST-MODIFIED:20211130T215534Z
UID:10004779-1363305600-1363564799@fishercenter.bard.edu
SUMMARY:Spring Forward—An Evening of Dance
DESCRIPTION:
URL:https://fishercenter.bard.edu/events/spring-forward-an-evening-of-dance/
ATTACH;FMTTYPE=image/jpeg:https://fishercenter.bard.edu/wp-content/uploads/2021/11/117482.jpg
END:VEVENT
BEGIN:VEVENT
DTSTART;TZID=America/New_York:20130316T193000
DTEND;TZID=America/New_York:20130316T193000
DTSTAMP:20260422T105807
CREATED:20211130T215540Z
LAST-MODIFIED:20211130T215540Z
UID:10004781-1363462200-1363462200@fishercenter.bard.edu
SUMMARY:Spring Forward—An Evening of Dance
DESCRIPTION:
URL:https://fishercenter.bard.edu/events/spring-forward-an-evening-of-dance-3/
ATTACH;FMTTYPE=image/jpeg:https://fishercenter.bard.edu/wp-content/uploads/2021/11/117484.jpg
END:VEVENT
BEGIN:VEVENT
DTSTART;TZID=America/New_York:20130316T193000
DTEND;TZID=America/New_York:20130316T193000
DTSTAMP:20260422T105807
CREATED:20211130T215632Z
LAST-MODIFIED:20211130T215632Z
UID:10004789-1363462200-1363462200@fishercenter.bard.edu
SUMMARY:Spring Forward—An Evening of Dance
DESCRIPTION:
URL:https://fishercenter.bard.edu/events/spring-forward-an-evening-of-dance-6/
ATTACH;FMTTYPE=image/jpeg:https://fishercenter.bard.edu/wp-content/uploads/2021/11/117552.jpg
END:VEVENT
END:VCALENDAR