BEGIN:VCALENDAR
VERSION:2.0
PRODID:-//Fisher Center at Bard - ECPv6.15.17//NONSGML v1.0//EN
CALSCALE:GREGORIAN
METHOD:PUBLISH
X-WR-CALNAME:Fisher Center at Bard
X-ORIGINAL-URL:https://fishercenter.bard.edu
X-WR-CALDESC:Events for Fisher Center at Bard
REFRESH-INTERVAL;VALUE=DURATION:PT1H
X-Robots-Tag:noindex
X-PUBLISHED-TTL:PT1H
BEGIN:VTIMEZONE
TZID:America/New_York
BEGIN:DAYLIGHT
TZOFFSETFROM:-0500
TZOFFSETTO:-0400
TZNAME:EDT
DTSTART:20120311T070000
END:DAYLIGHT
BEGIN:STANDARD
TZOFFSETFROM:-0400
TZOFFSETTO:-0500
TZNAME:EST
DTSTART:20121104T060000
END:STANDARD
BEGIN:DAYLIGHT
TZOFFSETFROM:-0500
TZOFFSETTO:-0400
TZNAME:EDT
DTSTART:20130310T070000
END:DAYLIGHT
BEGIN:STANDARD
TZOFFSETFROM:-0400
TZOFFSETTO:-0500
TZNAME:EST
DTSTART:20131103T060000
END:STANDARD
BEGIN:DAYLIGHT
TZOFFSETFROM:-0500
TZOFFSETTO:-0400
TZNAME:EDT
DTSTART:20140309T070000
END:DAYLIGHT
BEGIN:STANDARD
TZOFFSETFROM:-0400
TZOFFSETTO:-0500
TZNAME:EST
DTSTART:20141102T060000
END:STANDARD
END:VTIMEZONE
BEGIN:VEVENT
DTSTART;VALUE=DATE:20130712
DTEND;VALUE=DATE:20130804
DTSTAMP:20260425T112622
CREATED:20211130T215644Z
LAST-MODIFIED:20211130T215644Z
UID:10004795-1373587200-1375574399@fishercenter.bard.edu
SUMMARY:Film Festival: Stravinsky's Legacy and Russian Émigré Cinema
DESCRIPTION:
URL:https://fishercenter.bard.edu/events/film-festival-stravinskys-legacy-and-russian-migr-cinema/
ATTACH;FMTTYPE=image/jpeg:https://fishercenter.bard.edu/wp-content/uploads/2021/11/117625.jpg
END:VEVENT
BEGIN:VEVENT
DTSTART;TZID=America/New_York:20130727T140000
DTEND;TZID=America/New_York:20130727T140000
DTSTAMP:20260425T112622
CREATED:20211130T215740Z
LAST-MODIFIED:20211130T215740Z
UID:10004818-1374933600-1374933600@fishercenter.bard.edu
SUMMARY:Film: Rapt\, Autumn Mists\, and Chanson d'Armor
DESCRIPTION:
URL:https://fishercenter.bard.edu/events/film-rapt-autumn-mists-and-chanson-darmor/
ATTACH;FMTTYPE=image/jpeg:https://fishercenter.bard.edu/wp-content/uploads/2021/11/117661.jpg
END:VEVENT
BEGIN:VEVENT
DTSTART;TZID=America/New_York:20130727T183000
DTEND;TZID=America/New_York:20130727T183000
DTSTAMP:20260425T112622
CREATED:20211130T215740Z
LAST-MODIFIED:20211130T215740Z
UID:10004819-1374949800-1374949800@fishercenter.bard.edu
SUMMARY:Film: The Truth and Altair
DESCRIPTION:
URL:https://fishercenter.bard.edu/events/film-the-truth-and-altair/
ATTACH;FMTTYPE=image/jpeg:https://fishercenter.bard.edu/wp-content/uploads/2021/11/117662.jpg
END:VEVENT
BEGIN:VEVENT
DTSTART;TZID=America/New_York:20130727T203000
DTEND;TZID=America/New_York:20130727T203000
DTSTAMP:20260425T112622
CREATED:20211130T215952Z
LAST-MODIFIED:20211130T215952Z
UID:10004361-1374957000-1374957000@fishercenter.bard.edu
SUMMARY:Theo Bleckmann
DESCRIPTION:
URL:https://fishercenter.bard.edu/events/theo-bleckmann/
ATTACH;FMTTYPE=image/jpeg:https://fishercenter.bard.edu/wp-content/uploads/2021/11/118042.jpg
END:VEVENT
BEGIN:VEVENT
DTSTART;TZID=America/New_York:20130727T210000
DTEND;TZID=America/New_York:20130727T210000
DTSTAMP:20260425T112622
CREATED:20211130T215746Z
LAST-MODIFIED:20211130T215746Z
UID:10004820-1374958800-1374958800@fishercenter.bard.edu
SUMMARY:Film: Pierrot le fou
DESCRIPTION:
URL:https://fishercenter.bard.edu/events/film-pierrot-le-fou/
ATTACH;FMTTYPE=image/jpeg:https://fishercenter.bard.edu/wp-content/uploads/2021/11/117663.jpg
END:VEVENT
BEGIN:VEVENT
DTSTART;TZID=America/New_York:20130727T220000
DTEND;TZID=America/New_York:20130727T220000
DTSTAMP:20260425T112622
CREATED:20211130T220155Z
LAST-MODIFIED:20211130T220155Z
UID:10004386-1374962400-1374962400@fishercenter.bard.edu
SUMMARY:After Hours at the Spiegeltent
DESCRIPTION:
URL:https://fishercenter.bard.edu/events/after-hours-at-the-spiegeltent-10/
ATTACH;FMTTYPE=image/jpeg:https://fishercenter.bard.edu/wp-content/uploads/2021/11/118141.jpg
END:VEVENT
END:VCALENDAR