BEGIN:VCALENDAR
VERSION:2.0
PRODID:-//Fisher Center at Bard - ECPv6.15.17//NONSGML v1.0//EN
CALSCALE:GREGORIAN
METHOD:PUBLISH
X-WR-CALNAME:Fisher Center at Bard
X-ORIGINAL-URL:https://fishercenter.bard.edu
X-WR-CALDESC:Events for Fisher Center at Bard
REFRESH-INTERVAL;VALUE=DURATION:PT1H
X-Robots-Tag:noindex
X-PUBLISHED-TTL:PT1H
BEGIN:VTIMEZONE
TZID:America/New_York
BEGIN:DAYLIGHT
TZOFFSETFROM:-0500
TZOFFSETTO:-0400
TZNAME:EDT
DTSTART:20120311T070000
END:DAYLIGHT
BEGIN:STANDARD
TZOFFSETFROM:-0400
TZOFFSETTO:-0500
TZNAME:EST
DTSTART:20121104T060000
END:STANDARD
BEGIN:DAYLIGHT
TZOFFSETFROM:-0500
TZOFFSETTO:-0400
TZNAME:EDT
DTSTART:20130310T070000
END:DAYLIGHT
BEGIN:STANDARD
TZOFFSETFROM:-0400
TZOFFSETTO:-0500
TZNAME:EST
DTSTART:20131103T060000
END:STANDARD
BEGIN:DAYLIGHT
TZOFFSETFROM:-0500
TZOFFSETTO:-0400
TZNAME:EDT
DTSTART:20140309T070000
END:DAYLIGHT
BEGIN:STANDARD
TZOFFSETFROM:-0400
TZOFFSETTO:-0500
TZNAME:EST
DTSTART:20141102T060000
END:STANDARD
END:VTIMEZONE
BEGIN:VEVENT
DTSTART;VALUE=DATE:20130712
DTEND;VALUE=DATE:20130804
DTSTAMP:20260425T064021
CREATED:20211130T215644Z
LAST-MODIFIED:20211130T215644Z
UID:10004795-1373587200-1375574399@fishercenter.bard.edu
SUMMARY:Film Festival: Stravinsky's Legacy and Russian Émigré Cinema
DESCRIPTION:
URL:https://fishercenter.bard.edu/events/film-festival-stravinskys-legacy-and-russian-migr-cinema/
ATTACH;FMTTYPE=image/jpeg:https://fishercenter.bard.edu/wp-content/uploads/2021/11/117625.jpg
END:VEVENT
BEGIN:VEVENT
DTSTART;TZID=America/New_York:20130802T173000
DTEND;TZID=America/New_York:20130802T173000
DTSTAMP:20260425T064021
CREATED:20211130T220226Z
LAST-MODIFIED:20211130T220226Z
UID:10004893-1375464600-1375464600@fishercenter.bard.edu
SUMMARY:Midsummer Dancing
DESCRIPTION:
URL:https://fishercenter.bard.edu/events/midsummer-dancing/
ATTACH;FMTTYPE=image/jpeg:https://fishercenter.bard.edu/wp-content/uploads/2021/11/118459.jpg
END:VEVENT
BEGIN:VEVENT
DTSTART;TZID=America/New_York:20130802T190000
DTEND;TZID=America/New_York:20130802T190000
DTSTAMP:20260425T064021
CREATED:20211130T215746Z
LAST-MODIFIED:20211130T215746Z
UID:10004821-1375470000-1375470000@fishercenter.bard.edu
SUMMARY:Film: Les bonnes femmes
DESCRIPTION:
URL:https://fishercenter.bard.edu/events/film-les-bonnes-femmes/
ATTACH;FMTTYPE=image/jpeg:https://fishercenter.bard.edu/wp-content/uploads/2021/11/117664.jpg
END:VEVENT
BEGIN:VEVENT
DTSTART;TZID=America/New_York:20130802T203000
DTEND;TZID=America/New_York:20130802T203000
DTSTAMP:20260425T064021
CREATED:20211130T220000Z
LAST-MODIFIED:20211130T220000Z
UID:10004363-1375475400-1375475400@fishercenter.bard.edu
SUMMARY:Weimar New York
DESCRIPTION:
URL:https://fishercenter.bard.edu/events/weimar-new-york/
ATTACH;FMTTYPE=image/jpeg:https://fishercenter.bard.edu/wp-content/uploads/2021/11/118043.jpg
END:VEVENT
BEGIN:VEVENT
DTSTART;TZID=America/New_York:20130802T203000
DTEND;TZID=America/New_York:20130802T203000
DTSTAMP:20260425T064021
CREATED:20211130T220000Z
LAST-MODIFIED:20211130T220000Z
UID:10004366-1375475400-1375475400@fishercenter.bard.edu
SUMMARY:Weimar New York
DESCRIPTION:
URL:https://fishercenter.bard.edu/events/weimar-new-york-2/
ATTACH;FMTTYPE=image/jpeg:https://fishercenter.bard.edu/wp-content/uploads/2021/11/118044.jpg
END:VEVENT
BEGIN:VEVENT
DTSTART;TZID=America/New_York:20130802T210000
DTEND;TZID=America/New_York:20130802T210000
DTSTAMP:20260425T064021
CREATED:20211130T215753Z
LAST-MODIFIED:20211130T215753Z
UID:10004326-1375477200-1375477200@fishercenter.bard.edu
SUMMARY:Film: La cérémonie
DESCRIPTION:
URL:https://fishercenter.bard.edu/events/film-la-crmonie/
ATTACH;FMTTYPE=image/jpeg:https://fishercenter.bard.edu/wp-content/uploads/2021/11/117665.jpg
END:VEVENT
BEGIN:VEVENT
DTSTART;TZID=America/New_York:20130802T220000
DTEND;TZID=America/New_York:20130802T220000
DTSTAMP:20260425T064021
CREATED:20211130T220155Z
LAST-MODIFIED:20211130T220155Z
UID:10004388-1375480800-1375480800@fishercenter.bard.edu
SUMMARY:After Hours at the Spiegeltent
DESCRIPTION:
URL:https://fishercenter.bard.edu/events/after-hours-at-the-spiegeltent-11/
ATTACH;FMTTYPE=image/jpeg:https://fishercenter.bard.edu/wp-content/uploads/2021/11/118142.jpg
END:VEVENT
END:VCALENDAR