BEGIN:VCALENDAR
VERSION:2.0
PRODID:-//Fisher Center at Bard - ECPv6.15.17//NONSGML v1.0//EN
CALSCALE:GREGORIAN
METHOD:PUBLISH
X-WR-CALNAME:Fisher Center at Bard
X-ORIGINAL-URL:https://fishercenter.bard.edu
X-WR-CALDESC:Events for Fisher Center at Bard
REFRESH-INTERVAL;VALUE=DURATION:PT1H
X-Robots-Tag:noindex
X-PUBLISHED-TTL:PT1H
BEGIN:VTIMEZONE
TZID:America/New_York
BEGIN:DAYLIGHT
TZOFFSETFROM:-0500
TZOFFSETTO:-0400
TZNAME:EDT
DTSTART:20120311T070000
END:DAYLIGHT
BEGIN:STANDARD
TZOFFSETFROM:-0400
TZOFFSETTO:-0500
TZNAME:EST
DTSTART:20121104T060000
END:STANDARD
BEGIN:DAYLIGHT
TZOFFSETFROM:-0500
TZOFFSETTO:-0400
TZNAME:EDT
DTSTART:20130310T070000
END:DAYLIGHT
BEGIN:STANDARD
TZOFFSETFROM:-0400
TZOFFSETTO:-0500
TZNAME:EST
DTSTART:20131103T060000
END:STANDARD
BEGIN:DAYLIGHT
TZOFFSETFROM:-0500
TZOFFSETTO:-0400
TZNAME:EDT
DTSTART:20140309T070000
END:DAYLIGHT
BEGIN:STANDARD
TZOFFSETFROM:-0400
TZOFFSETTO:-0500
TZNAME:EST
DTSTART:20141102T060000
END:STANDARD
END:VTIMEZONE
BEGIN:VEVENT
DTSTART;TZID=America/New_York:20130809T110000
DTEND;TZID=America/New_York:20130809T110000
DTSTAMP:20260425T063935
CREATED:20211130T220040Z
LAST-MODIFIED:20211130T220040Z
UID:10004856-1376046000-1376046000@fishercenter.bard.edu
SUMMARY:Bindlestiff Family Cirkus Presents Kinder Spiegel
DESCRIPTION:
URL:https://fishercenter.bard.edu/events/bindlestiff-family-cirkus-presents-kinder-spiegel/
ATTACH;FMTTYPE=image/jpeg:https://fishercenter.bard.edu/wp-content/uploads/2021/11/118055.jpg
END:VEVENT
BEGIN:VEVENT
DTSTART;TZID=America/New_York:20130809T173000
DTEND;TZID=America/New_York:20130809T173000
DTSTAMP:20260425T063935
CREATED:20211130T220226Z
LAST-MODIFIED:20211130T220226Z
UID:10004900-1376069400-1376069400@fishercenter.bard.edu
SUMMARY:Midsummer Dancing
DESCRIPTION:
URL:https://fishercenter.bard.edu/events/midsummer-dancing/
ATTACH;FMTTYPE=image/jpeg:https://fishercenter.bard.edu/wp-content/uploads/2021/11/118459.jpg
END:VEVENT
BEGIN:VEVENT
DTSTART;TZID=America/New_York:20130809T200000
DTEND;TZID=America/New_York:20130809T200000
DTSTAMP:20260425T063935
CREATED:20211130T215843Z
LAST-MODIFIED:20211130T215843Z
UID:10004826-1376078400-1376078400@fishercenter.bard.edu
SUMMARY:Program OneThe 20th Century's Most Celebrated Composer
DESCRIPTION:
URL:https://fishercenter.bard.edu/events/program-onethe-20th-centurys-most-celebrated-composer/
ATTACH;FMTTYPE=image/jpeg:https://fishercenter.bard.edu/wp-content/uploads/2021/11/117809.jpg
END:VEVENT
BEGIN:VEVENT
DTSTART;TZID=America/New_York:20130809T203000
DTEND;TZID=America/New_York:20130809T203000
DTSTAMP:20260425T063935
CREATED:20211130T220007Z
LAST-MODIFIED:20211130T220007Z
UID:10004370-1376080200-1376080200@fishercenter.bard.edu
SUMMARY:Maya Beiser with Special Guest Donal Fox
DESCRIPTION:
URL:https://fishercenter.bard.edu/events/maya-beiser-with-special-guest-donal-fox/
ATTACH;FMTTYPE=image/jpeg:https://fishercenter.bard.edu/wp-content/uploads/2021/11/118046.jpg
END:VEVENT
BEGIN:VEVENT
DTSTART;TZID=America/New_York:20130809T220000
DTEND;TZID=America/New_York:20130809T220000
DTSTAMP:20260425T063935
CREATED:20211130T220202Z
LAST-MODIFIED:20211130T220202Z
UID:10004392-1376085600-1376085600@fishercenter.bard.edu
SUMMARY:After Hours at the Spiegeltent
DESCRIPTION:
URL:https://fishercenter.bard.edu/events/after-hours-at-the-spiegeltent-13/
ATTACH;FMTTYPE=image/jpeg:https://fishercenter.bard.edu/wp-content/uploads/2021/11/118144.jpg
END:VEVENT
END:VCALENDAR