BEGIN:VCALENDAR
VERSION:2.0
PRODID:-//Fisher Center at Bard - ECPv6.15.17//NONSGML v1.0//EN
CALSCALE:GREGORIAN
METHOD:PUBLISH
X-ORIGINAL-URL:https://fishercenter.bard.edu
X-WR-CALDESC:Events for Fisher Center at Bard
REFRESH-INTERVAL;VALUE=DURATION:PT1H
X-Robots-Tag:noindex
X-PUBLISHED-TTL:PT1H
BEGIN:VTIMEZONE
TZID:America/New_York
BEGIN:DAYLIGHT
TZOFFSETFROM:-0500
TZOFFSETTO:-0400
TZNAME:EDT
DTSTART:20120311T070000
END:DAYLIGHT
BEGIN:STANDARD
TZOFFSETFROM:-0400
TZOFFSETTO:-0500
TZNAME:EST
DTSTART:20121104T060000
END:STANDARD
BEGIN:DAYLIGHT
TZOFFSETFROM:-0500
TZOFFSETTO:-0400
TZNAME:EDT
DTSTART:20130310T070000
END:DAYLIGHT
BEGIN:STANDARD
TZOFFSETFROM:-0400
TZOFFSETTO:-0500
TZNAME:EST
DTSTART:20131103T060000
END:STANDARD
BEGIN:DAYLIGHT
TZOFFSETFROM:-0500
TZOFFSETTO:-0400
TZNAME:EDT
DTSTART:20140309T070000
END:DAYLIGHT
BEGIN:STANDARD
TZOFFSETFROM:-0400
TZOFFSETTO:-0500
TZNAME:EST
DTSTART:20141102T060000
END:STANDARD
END:VTIMEZONE
BEGIN:VEVENT
DTSTART;TZID=America/New_York:20130810T100000
DTEND;TZID=America/New_York:20130810T100000
DTSTAMP:20260425T081709
CREATED:20211130T215843Z
LAST-MODIFIED:20211130T215843Z
UID:10004827-1376128800-1376128800@fishercenter.bard.edu
SUMMARY:Panel OneWho was Stravinsky?
DESCRIPTION:
URL:https://fishercenter.bard.edu/events/panel-onewho-was-stravinsky/
ATTACH;FMTTYPE=image/jpeg:https://fishercenter.bard.edu/wp-content/uploads/2021/11/117810.jpg
END:VEVENT
BEGIN:VEVENT
DTSTART;TZID=America/New_York:20130810T110000
DTEND;TZID=America/New_York:20130810T110000
DTSTAMP:20260425T081709
CREATED:20211130T220040Z
LAST-MODIFIED:20211130T220040Z
UID:10004857-1376132400-1376132400@fishercenter.bard.edu
SUMMARY:Bindlestiff Family Cirkus Presents Kinder Spiegel
DESCRIPTION:
URL:https://fishercenter.bard.edu/events/bindlestiff-family-cirkus-presents-kinder-spiegel/
ATTACH;FMTTYPE=image/jpeg:https://fishercenter.bard.edu/wp-content/uploads/2021/11/118055.jpg
END:VEVENT
BEGIN:VEVENT
DTSTART;TZID=America/New_York:20130810T110000
DTEND;TZID=America/New_York:20130810T110000
DTSTAMP:20260425T081709
CREATED:20211130T220102Z
LAST-MODIFIED:20211130T220102Z
UID:10004867-1376132400-1376132400@fishercenter.bard.edu
SUMMARY:Bindlestiff Family Cirkus Presents Kinder Spiegel: The Piccolini Trio
DESCRIPTION:
URL:https://fishercenter.bard.edu/events/bindlestiff-family-cirkus-presents-kinder-spiegel-the-piccolini-trio/
ATTACH;FMTTYPE=image/jpeg:https://fishercenter.bard.edu/wp-content/uploads/2021/11/118060.jpg
END:VEVENT
BEGIN:VEVENT
DTSTART;TZID=America/New_York:20130810T110000
DTEND;TZID=America/New_York:20130810T110000
DTSTAMP:20260425T081709
CREATED:20211130T220102Z
LAST-MODIFIED:20211130T220102Z
UID:10004869-1376132400-1376132400@fishercenter.bard.edu
SUMMARY:Bindlestiff Family Cirkus Presents Kinder Spiegel: The Piccolini Trio
DESCRIPTION:
URL:https://fishercenter.bard.edu/events/bindlestiff-family-cirkus-presents-kinder-spiegel-the-piccolini-trio-2/
ATTACH;FMTTYPE=image/jpeg:https://fishercenter.bard.edu/wp-content/uploads/2021/11/118061.jpg
END:VEVENT
BEGIN:VEVENT
DTSTART;TZID=America/New_York:20130810T133000
DTEND;TZID=America/New_York:20130810T133000
DTSTAMP:20260425T081709
CREATED:20211130T215849Z
LAST-MODIFIED:20211130T215849Z
UID:10004828-1376141400-1376141400@fishercenter.bard.edu
SUMMARY:Program TwoThe Russian Context
DESCRIPTION:
URL:https://fishercenter.bard.edu/events/program-twothe-russian-context/
ATTACH;FMTTYPE=image/jpeg:https://fishercenter.bard.edu/wp-content/uploads/2021/11/117811.jpg
END:VEVENT
BEGIN:VEVENT
DTSTART;TZID=America/New_York:20130810T170000
DTEND;TZID=America/New_York:20130810T170000
DTSTAMP:20260425T081709
CREATED:20211130T220244Z
LAST-MODIFIED:20211130T220244Z
UID:10004903-1376154000-1376154000@fishercenter.bard.edu
SUMMARY:Special EventFilm: The Soldier's Tale
DESCRIPTION:
URL:https://fishercenter.bard.edu/events/special-eventfilm-the-soldiers-tale/
ATTACH;FMTTYPE=image/jpeg:https://fishercenter.bard.edu/wp-content/uploads/2021/11/118494.jpg
END:VEVENT
BEGIN:VEVENT
DTSTART;TZID=America/New_York:20130810T173000
DTEND;TZID=America/New_York:20130810T173000
DTSTAMP:20260425T081709
CREATED:20211130T220226Z
LAST-MODIFIED:20211130T220226Z
UID:10004901-1376155800-1376155800@fishercenter.bard.edu
SUMMARY:Midsummer Dancing
DESCRIPTION:
URL:https://fishercenter.bard.edu/events/midsummer-dancing/
ATTACH;FMTTYPE=image/jpeg:https://fishercenter.bard.edu/wp-content/uploads/2021/11/118459.jpg
END:VEVENT
BEGIN:VEVENT
DTSTART;TZID=America/New_York:20130810T200000
DTEND;TZID=America/New_York:20130810T200000
DTSTAMP:20260425T081709
CREATED:20211130T215849Z
LAST-MODIFIED:20211130T215849Z
UID:10004829-1376164800-1376164800@fishercenter.bard.edu
SUMMARY:Program Three1913: Breakthrough to Fame and Notoriety
DESCRIPTION:
URL:https://fishercenter.bard.edu/events/program-three1913-breakthrough-to-fame-and-notoriety/
ATTACH;FMTTYPE=image/jpeg:https://fishercenter.bard.edu/wp-content/uploads/2021/11/117812.jpg
END:VEVENT
BEGIN:VEVENT
DTSTART;TZID=America/New_York:20130810T203000
DTEND;TZID=America/New_York:20130810T203000
DTSTAMP:20260425T081709
CREATED:20211130T220013Z
LAST-MODIFIED:20211130T220013Z
UID:10004372-1376166600-1376166600@fishercenter.bard.edu
SUMMARY:A Tribute to Julie London with Jazz Vocalist Marianne Solivan
DESCRIPTION:
URL:https://fishercenter.bard.edu/events/a-tribute-to-julie-london-with-jazz-vocalist-marianne-solivan/
ATTACH;FMTTYPE=image/jpeg:https://fishercenter.bard.edu/wp-content/uploads/2021/11/118047.jpg
END:VEVENT
BEGIN:VEVENT
DTSTART;TZID=America/New_York:20130810T220000
DTEND;TZID=America/New_York:20130810T220000
DTSTAMP:20260425T081709
CREATED:20211130T220208Z
LAST-MODIFIED:20211130T220208Z
UID:10004394-1376172000-1376172000@fishercenter.bard.edu
SUMMARY:After Hours at the Spiegeltent
DESCRIPTION:
URL:https://fishercenter.bard.edu/events/after-hours-at-the-spiegeltent-14/
ATTACH;FMTTYPE=image/jpeg:https://fishercenter.bard.edu/wp-content/uploads/2021/11/118145.jpg
END:VEVENT
END:VCALENDAR