BEGIN:VCALENDAR
VERSION:2.0
PRODID:-//Fisher Center at Bard - ECPv6.15.17//NONSGML v1.0//EN
CALSCALE:GREGORIAN
METHOD:PUBLISH
X-WR-CALNAME:Fisher Center at Bard
X-ORIGINAL-URL:https://fishercenter.bard.edu
X-WR-CALDESC:Events for Fisher Center at Bard
REFRESH-INTERVAL;VALUE=DURATION:PT1H
X-Robots-Tag:noindex
X-PUBLISHED-TTL:PT1H
BEGIN:VTIMEZONE
TZID:America/New_York
BEGIN:DAYLIGHT
TZOFFSETFROM:-0500
TZOFFSETTO:-0400
TZNAME:EDT
DTSTART:20210314T070000
END:DAYLIGHT
BEGIN:STANDARD
TZOFFSETFROM:-0400
TZOFFSETTO:-0500
TZNAME:EST
DTSTART:20211107T060000
END:STANDARD
BEGIN:DAYLIGHT
TZOFFSETFROM:-0500
TZOFFSETTO:-0400
TZNAME:EDT
DTSTART:20220313T070000
END:DAYLIGHT
BEGIN:STANDARD
TZOFFSETFROM:-0400
TZOFFSETTO:-0500
TZNAME:EST
DTSTART:20221106T060000
END:STANDARD
BEGIN:DAYLIGHT
TZOFFSETFROM:-0500
TZOFFSETTO:-0400
TZNAME:EDT
DTSTART:20230312T070000
END:DAYLIGHT
BEGIN:STANDARD
TZOFFSETFROM:-0400
TZOFFSETTO:-0500
TZNAME:EST
DTSTART:20231105T060000
END:STANDARD
BEGIN:DAYLIGHT
TZOFFSETFROM:-0500
TZOFFSETTO:-0400
TZNAME:EDT
DTSTART:20240310T070000
END:DAYLIGHT
BEGIN:STANDARD
TZOFFSETFROM:-0400
TZOFFSETTO:-0500
TZNAME:EST
DTSTART:20241103T060000
END:STANDARD
END:VTIMEZONE
BEGIN:VEVENT
DTSTART;TZID=America/New_York:20230224T193000
DTEND;TZID=America/New_York:20230224T193000
DTSTAMP:20260425T114734
CREATED:20221208T161323Z
LAST-MODIFIED:20230223T231102Z
UID:10006417-1677267000-1677267000@fishercenter.bard.edu
SUMMARY:Hippolytos
DESCRIPTION:
URL:https://fishercenter.bard.edu/events/euripides-hippolytus/
LOCATION:Fisher Center\, LUMA Theater
CATEGORIES:Theater & Performance Program
ATTACH;FMTTYPE=image/jpeg:https://fishercenter.bard.edu/wp-content/uploads/2022/12/image1-2.jpg
END:VEVENT
BEGIN:VEVENT
DTSTART;TZID=America/New_York:20230205T150000
DTEND;TZID=America/New_York:20230205T150000
DTSTAMP:20260425T114734
CREATED:20221129T195428Z
LAST-MODIFIED:20221209T192615Z
UID:10006410-1675609200-1675609200@fishercenter.bard.edu
SUMMARY:Opera Workshop
DESCRIPTION:
URL:https://fishercenter.bard.edu/events/opera-workshop-23/
LOCATION:Fisher Center\, LUMA Theater
CATEGORIES:Music Program
ATTACH;FMTTYPE=image/jpeg:https://fishercenter.bard.edu/wp-content/uploads/2022/11/image1.jpg
END:VEVENT
BEGIN:VEVENT
DTSTART;TZID=America/New_York:20230204T193000
DTEND;TZID=America/New_York:20230204T193000
DTSTAMP:20260425T114734
CREATED:20221129T195428Z
LAST-MODIFIED:20221209T192615Z
UID:10006409-1675539000-1675539000@fishercenter.bard.edu
SUMMARY:Opera Workshop
DESCRIPTION:
URL:https://fishercenter.bard.edu/events/opera-workshop-23/
LOCATION:Fisher Center\, LUMA Theater
CATEGORIES:Music Program
ATTACH;FMTTYPE=image/jpeg:https://fishercenter.bard.edu/wp-content/uploads/2022/11/image1.jpg
END:VEVENT
BEGIN:VEVENT
DTSTART;TZID=America/New_York:20221210T193000
DTEND;TZID=America/New_York:20221210T193000
DTSTAMP:20260425T114734
CREATED:20221205T192229Z
LAST-MODIFIED:20221205T192706Z
UID:10006416-1670700600-1670700600@fishercenter.bard.edu
SUMMARY:Eternal Beginnings
DESCRIPTION:
URL:https://fishercenter.bard.edu/events/eternal-beginnings/2022-12-10/2/
LOCATION:Fisher Center\, LUMA Theater
CATEGORIES:Dance Program
ATTACH;FMTTYPE=image/jpeg:https://fishercenter.bard.edu/wp-content/uploads/2022/12/image1.jpg
END:VEVENT
BEGIN:VEVENT
DTSTART;TZID=America/New_York:20221210T140000
DTEND;TZID=America/New_York:20221210T140000
DTSTAMP:20260425T114734
CREATED:20221205T192229Z
LAST-MODIFIED:20221205T192706Z
UID:10006415-1670680800-1670680800@fishercenter.bard.edu
SUMMARY:Eternal Beginnings
DESCRIPTION:
URL:https://fishercenter.bard.edu/events/eternal-beginnings/2022-12-10/1/
LOCATION:Fisher Center\, LUMA Theater
CATEGORIES:Dance Program
ATTACH;FMTTYPE=image/jpeg:https://fishercenter.bard.edu/wp-content/uploads/2022/12/image1.jpg
END:VEVENT
BEGIN:VEVENT
DTSTART;TZID=America/New_York:20221209T193000
DTEND;TZID=America/New_York:20221209T193000
DTSTAMP:20260425T114734
CREATED:20221205T192229Z
LAST-MODIFIED:20221205T192706Z
UID:10006414-1670614200-1670614200@fishercenter.bard.edu
SUMMARY:Eternal Beginnings
DESCRIPTION:
URL:https://fishercenter.bard.edu/events/eternal-beginnings/
LOCATION:Fisher Center\, LUMA Theater
CATEGORIES:Dance Program
ATTACH;FMTTYPE=image/jpeg:https://fishercenter.bard.edu/wp-content/uploads/2022/12/image1.jpg
END:VEVENT
BEGIN:VEVENT
DTSTART;TZID=America/New_York:20221208T193000
DTEND;TZID=America/New_York:20221208T193000
DTSTAMP:20260425T114734
CREATED:20221205T192229Z
LAST-MODIFIED:20221205T192706Z
UID:10006413-1670527800-1670527800@fishercenter.bard.edu
SUMMARY:Eternal Beginnings
DESCRIPTION:
URL:https://fishercenter.bard.edu/events/eternal-beginnings/
LOCATION:Fisher Center\, LUMA Theater
CATEGORIES:Dance Program
ATTACH;FMTTYPE=image/jpeg:https://fishercenter.bard.edu/wp-content/uploads/2022/12/image1.jpg
END:VEVENT
BEGIN:VEVENT
DTSTART;TZID=America/New_York:20221104T193000
DTEND;TZID=America/New_York:20221104T193000
DTSTAMP:20260425T114734
CREATED:20221026T173945Z
LAST-MODIFIED:20221026T202840Z
UID:10006408-1667590200-1667590200@fishercenter.bard.edu
SUMMARY:Fall/O me
DESCRIPTION:
URL:https://fishercenter.bard.edu/events/fall-o-me/
LOCATION:Fisher Center\, LUMA Theater
CATEGORIES:Dance Program
ATTACH;FMTTYPE=application/pdf:https://fishercenter.bard.edu/wp-content/uploads/2022/10/FallOMeImage.pdf
END:VEVENT
BEGIN:VEVENT
DTSTART;TZID=America/New_York:20221103T193000
DTEND;TZID=America/New_York:20221103T193000
DTSTAMP:20260425T114734
CREATED:20221026T173945Z
LAST-MODIFIED:20221026T202840Z
UID:10006407-1667503800-1667503800@fishercenter.bard.edu
SUMMARY:Fall/O me
DESCRIPTION:
URL:https://fishercenter.bard.edu/events/fall-o-me/
LOCATION:Fisher Center\, LUMA Theater
CATEGORIES:Dance Program
ATTACH;FMTTYPE=application/pdf:https://fishercenter.bard.edu/wp-content/uploads/2022/10/FallOMeImage.pdf
END:VEVENT
BEGIN:VEVENT
DTSTART;TZID=America/New_York:20221022T140000
DTEND;TZID=America/New_York:20221022T140000
DTSTAMP:20260425T114734
CREATED:20220930T205810Z
LAST-MODIFIED:20221010T141841Z
UID:10005507-1666447200-1666447200@fishercenter.bard.edu
SUMMARY:Makhóčheowápi Akézaptaŋ
DESCRIPTION:
URL:https://fishercenter.bard.edu/events/fifteen-maps/
LOCATION:Fisher Center\, LUMA Theater
CATEGORIES:Bard College
ATTACH;FMTTYPE=image/jpeg:https://fishercenter.bard.edu/wp-content/uploads/2022/09/Primary-Head-Shot-Press-Kite-e1664466125147.jpeg
END:VEVENT
BEGIN:VEVENT
DTSTART;TZID=America/New_York:20220930T193000
DTEND;TZID=America/New_York:20220930T193000
DTSTAMP:20260425T114734
CREATED:20220811T182158Z
LAST-MODIFIED:20220930T164808Z
UID:10005465-1664566200-1664566200@fishercenter.bard.edu
SUMMARY:Finally Unfinished
DESCRIPTION:
URL:https://fishercenter.bard.edu/events/finally-unfinished/
LOCATION:Fisher Center\, LUMA Theater
CATEGORIES:Fisher Center LAB
ATTACH;FMTTYPE=image/jpeg:https://fishercenter.bard.edu/wp-content/uploads/2022/08/Tanowitz_PC-Photography-by-Rick-Guest-with-Olivia-Pomp-e1662991178592.jpeg
END:VEVENT
BEGIN:VEVENT
DTSTART;TZID=America/New_York:20220812T160000
DTEND;TZID=America/New_York:20220812T160000
DTSTAMP:20260425T114734
CREATED:20220707T134259Z
LAST-MODIFIED:20220809T154341Z
UID:10006386-1660320000-1660320000@fishercenter.bard.edu
SUMMARY:Shine
DESCRIPTION:
URL:https://fishercenter.bard.edu/events/shine/
LOCATION:Fisher Center\, LUMA Theater
CATEGORIES:Bard Music Festival,Bard SummerScape
ATTACH;FMTTYPE=image/jpeg:https://fishercenter.bard.edu/wp-content/uploads/2022/06/tid4645-shine-001-hero-e1656447185419.jpg
END:VEVENT
BEGIN:VEVENT
DTSTART;TZID=America/New_York:20220812T140000
DTEND;TZID=America/New_York:20220812T140000
DTSTAMP:20260425T114734
CREATED:20220707T134221Z
LAST-MODIFIED:20220725T133301Z
UID:10006385-1660312800-1660312800@fishercenter.bard.edu
SUMMARY:Brief Encounter
DESCRIPTION:
URL:https://fishercenter.bard.edu/events/brief-encounter/
LOCATION:Fisher Center\, LUMA Theater
CATEGORIES:Bard Music Festival,Bard SummerScape
ATTACH;FMTTYPE=image/jpeg:https://fishercenter.bard.edu/wp-content/uploads/2022/06/brief-encounter-review.jpg
END:VEVENT
BEGIN:VEVENT
DTSTART;TZID=America/New_York:20220717T140000
DTEND;TZID=America/New_York:20220717T140000
DTSTAMP:20260425T114734
CREATED:20220301T200640Z
LAST-MODIFIED:20220715T123712Z
UID:10005421-1658066400-1658066400@fishercenter.bard.edu
SUMMARY:Molière's Dom Juan
DESCRIPTION:
URL:https://fishercenter.bard.edu/events/dom-juan/
LOCATION:Fisher Center\, LUMA Theater
CATEGORIES:Bard SummerScape
ATTACH;FMTTYPE=image/jpeg:https://fishercenter.bard.edu/wp-content/uploads/2022/03/DOM_JUAN_Baranova-2090-Edit-scaled-e1654535954778.jpg
END:VEVENT
BEGIN:VEVENT
DTSTART;TZID=America/New_York:20220716T140000
DTEND;TZID=America/New_York:20220716T140000
DTSTAMP:20260425T114734
CREATED:20220301T200640Z
LAST-MODIFIED:20220715T123712Z
UID:10005420-1657980000-1657980000@fishercenter.bard.edu
SUMMARY:Molière's Dom Juan
DESCRIPTION:
URL:https://fishercenter.bard.edu/events/dom-juan/
LOCATION:Fisher Center\, LUMA Theater
CATEGORIES:Bard SummerScape
ATTACH;FMTTYPE=image/jpeg:https://fishercenter.bard.edu/wp-content/uploads/2022/03/DOM_JUAN_Baranova-2090-Edit-scaled-e1654535954778.jpg
END:VEVENT
BEGIN:VEVENT
DTSTART;TZID=America/New_York:20220715T193000
DTEND;TZID=America/New_York:20220715T193000
DTSTAMP:20260425T114734
CREATED:20220301T200640Z
LAST-MODIFIED:20220715T123712Z
UID:10005419-1657913400-1657913400@fishercenter.bard.edu
SUMMARY:Molière's Dom Juan
DESCRIPTION:
URL:https://fishercenter.bard.edu/events/dom-juan/
LOCATION:Fisher Center\, LUMA Theater
CATEGORIES:Bard SummerScape
ATTACH;FMTTYPE=image/jpeg:https://fishercenter.bard.edu/wp-content/uploads/2022/03/DOM_JUAN_Baranova-2090-Edit-scaled-e1654535954778.jpg
END:VEVENT
BEGIN:VEVENT
DTSTART;TZID=America/New_York:20220707T193000
DTEND;TZID=America/New_York:20220707T193000
DTSTAMP:20260425T114734
CREATED:20220301T200640Z
LAST-MODIFIED:20220715T123712Z
UID:10005418-1657222200-1657222200@fishercenter.bard.edu
SUMMARY:Molière's Dom Juan
DESCRIPTION:
URL:https://fishercenter.bard.edu/events/dom-juan/
LOCATION:Fisher Center\, LUMA Theater
CATEGORIES:Bard SummerScape
ATTACH;FMTTYPE=image/jpeg:https://fishercenter.bard.edu/wp-content/uploads/2022/03/DOM_JUAN_Baranova-2090-Edit-scaled-e1654535954778.jpg
END:VEVENT
BEGIN:VEVENT
DTSTART;TZID=America/New_York:20220706T140000
DTEND;TZID=America/New_York:20220706T140000
DTSTAMP:20260425T114734
CREATED:20220301T200640Z
LAST-MODIFIED:20220715T123712Z
UID:10005417-1657116000-1657116000@fishercenter.bard.edu
SUMMARY:Molière's Dom Juan
DESCRIPTION:
URL:https://fishercenter.bard.edu/events/dom-juan/
LOCATION:Fisher Center\, LUMA Theater
CATEGORIES:Bard SummerScape
ATTACH;FMTTYPE=image/jpeg:https://fishercenter.bard.edu/wp-content/uploads/2022/03/DOM_JUAN_Baranova-2090-Edit-scaled-e1654535954778.jpg
END:VEVENT
BEGIN:VEVENT
DTSTART;TZID=America/New_York:20220703T150000
DTEND;TZID=America/New_York:20220703T150000
DTSTAMP:20260425T114734
CREATED:20220301T200640Z
LAST-MODIFIED:20220715T123712Z
UID:10005416-1656860400-1656860400@fishercenter.bard.edu
SUMMARY:Molière's Dom Juan
DESCRIPTION:
URL:https://fishercenter.bard.edu/events/dom-juan/
LOCATION:Fisher Center\, LUMA Theater
CATEGORIES:Bard SummerScape
ATTACH;FMTTYPE=image/jpeg:https://fishercenter.bard.edu/wp-content/uploads/2022/03/DOM_JUAN_Baranova-2090-Edit-scaled-e1654535954778.jpg
END:VEVENT
BEGIN:VEVENT
DTSTART;TZID=America/New_York:20220702T190000
DTEND;TZID=America/New_York:20220702T190000
DTSTAMP:20260425T114734
CREATED:20220301T200640Z
LAST-MODIFIED:20220715T123712Z
UID:10005415-1656788400-1656788400@fishercenter.bard.edu
SUMMARY:Molière's Dom Juan
DESCRIPTION:
URL:https://fishercenter.bard.edu/events/dom-juan/2022-07-02/2/
LOCATION:Fisher Center\, LUMA Theater
CATEGORIES:Bard SummerScape
ATTACH;FMTTYPE=image/jpeg:https://fishercenter.bard.edu/wp-content/uploads/2022/03/DOM_JUAN_Baranova-2090-Edit-scaled-e1654535954778.jpg
END:VEVENT
BEGIN:VEVENT
DTSTART;TZID=America/New_York:20220702T130000
DTEND;TZID=America/New_York:20220702T130000
DTSTAMP:20260425T114734
CREATED:20220301T200640Z
LAST-MODIFIED:20220715T123712Z
UID:10005414-1656766800-1656766800@fishercenter.bard.edu
SUMMARY:Molière's Dom Juan
DESCRIPTION:
URL:https://fishercenter.bard.edu/events/dom-juan/2022-07-02/1/
LOCATION:Fisher Center\, LUMA Theater
CATEGORIES:Bard SummerScape
ATTACH;FMTTYPE=image/jpeg:https://fishercenter.bard.edu/wp-content/uploads/2022/03/DOM_JUAN_Baranova-2090-Edit-scaled-e1654535954778.jpg
END:VEVENT
BEGIN:VEVENT
DTSTART;TZID=America/New_York:20220701T193000
DTEND;TZID=America/New_York:20220701T193000
DTSTAMP:20260425T114734
CREATED:20220301T200640Z
LAST-MODIFIED:20220715T123712Z
UID:10005413-1656703800-1656703800@fishercenter.bard.edu
SUMMARY:Molière's Dom Juan
DESCRIPTION:
URL:https://fishercenter.bard.edu/events/dom-juan/
LOCATION:Fisher Center\, LUMA Theater
CATEGORIES:Bard SummerScape
ATTACH;FMTTYPE=image/jpeg:https://fishercenter.bard.edu/wp-content/uploads/2022/03/DOM_JUAN_Baranova-2090-Edit-scaled-e1654535954778.jpg
END:VEVENT
BEGIN:VEVENT
DTSTART;TZID=America/New_York:20220630T193000
DTEND;TZID=America/New_York:20220630T193000
DTSTAMP:20260425T114734
CREATED:20220301T200640Z
LAST-MODIFIED:20220715T123712Z
UID:10005412-1656617400-1656617400@fishercenter.bard.edu
SUMMARY:Molière's Dom Juan
DESCRIPTION:
URL:https://fishercenter.bard.edu/events/dom-juan/
LOCATION:Fisher Center\, LUMA Theater
CATEGORIES:Bard SummerScape
ATTACH;FMTTYPE=image/jpeg:https://fishercenter.bard.edu/wp-content/uploads/2022/03/DOM_JUAN_Baranova-2090-Edit-scaled-e1654535954778.jpg
END:VEVENT
BEGIN:VEVENT
DTSTART;TZID=America/New_York:20220629T140000
DTEND;TZID=America/New_York:20220629T140000
DTSTAMP:20260425T114734
CREATED:20220301T200640Z
LAST-MODIFIED:20220715T123712Z
UID:10005411-1656511200-1656511200@fishercenter.bard.edu
SUMMARY:Molière's Dom Juan
DESCRIPTION:
URL:https://fishercenter.bard.edu/events/dom-juan/
LOCATION:Fisher Center\, LUMA Theater
CATEGORIES:Bard SummerScape
ATTACH;FMTTYPE=image/jpeg:https://fishercenter.bard.edu/wp-content/uploads/2022/03/DOM_JUAN_Baranova-2090-Edit-scaled-e1654535954778.jpg
END:VEVENT
BEGIN:VEVENT
DTSTART;TZID=America/New_York:20220626T140000
DTEND;TZID=America/New_York:20220626T140000
DTSTAMP:20260425T114734
CREATED:20220301T200640Z
LAST-MODIFIED:20220715T123712Z
UID:10005410-1656252000-1656252000@fishercenter.bard.edu
SUMMARY:Molière's Dom Juan
DESCRIPTION:
URL:https://fishercenter.bard.edu/events/dom-juan/
LOCATION:Fisher Center\, LUMA Theater
CATEGORIES:Bard SummerScape
ATTACH;FMTTYPE=image/jpeg:https://fishercenter.bard.edu/wp-content/uploads/2022/03/DOM_JUAN_Baranova-2090-Edit-scaled-e1654535954778.jpg
END:VEVENT
BEGIN:VEVENT
DTSTART;TZID=America/New_York:20220625T193000
DTEND;TZID=America/New_York:20220625T193000
DTSTAMP:20260425T114734
CREATED:20220301T200640Z
LAST-MODIFIED:20220715T123712Z
UID:10005409-1656185400-1656185400@fishercenter.bard.edu
SUMMARY:Molière's Dom Juan
DESCRIPTION:
URL:https://fishercenter.bard.edu/events/dom-juan/
LOCATION:Fisher Center\, LUMA Theater
CATEGORIES:Bard SummerScape
ATTACH;FMTTYPE=image/jpeg:https://fishercenter.bard.edu/wp-content/uploads/2022/03/DOM_JUAN_Baranova-2090-Edit-scaled-e1654535954778.jpg
END:VEVENT
BEGIN:VEVENT
DTSTART;TZID=America/New_York:20220624T193000
DTEND;TZID=America/New_York:20220624T193000
DTSTAMP:20260425T114734
CREATED:20220301T200640Z
LAST-MODIFIED:20220715T123712Z
UID:10005408-1656099000-1656099000@fishercenter.bard.edu
SUMMARY:Molière's Dom Juan
DESCRIPTION:
URL:https://fishercenter.bard.edu/events/dom-juan/
LOCATION:Fisher Center\, LUMA Theater
CATEGORIES:Bard SummerScape
ATTACH;FMTTYPE=image/jpeg:https://fishercenter.bard.edu/wp-content/uploads/2022/03/DOM_JUAN_Baranova-2090-Edit-scaled-e1654535954778.jpg
END:VEVENT
BEGIN:VEVENT
DTSTART;TZID=America/New_York:20220514T193000
DTEND;TZID=America/New_York:20220514T193000
DTSTAMP:20260425T114734
CREATED:20220228T184000Z
LAST-MODIFIED:20220228T184000Z
UID:10006343-1652556600-1652556600@fishercenter.bard.edu
SUMMARY:Senior Projects in Dance and Multidisciplinary Studies
DESCRIPTION:
URL:https://fishercenter.bard.edu/events/senior-projects-in-dance-and-multidisciplinary-studies/2022-05-14/2/
LOCATION:Fisher Center\, LUMA Theater
CATEGORIES:Dance Program
ATTACH;FMTTYPE=image/jpeg:https://fishercenter.bard.edu/wp-content/uploads/2022/02/senior-dance_22-e1646073571813.jpg
END:VEVENT
BEGIN:VEVENT
DTSTART;TZID=America/New_York:20220514T140000
DTEND;TZID=America/New_York:20220514T140000
DTSTAMP:20260425T114734
CREATED:20220228T184000Z
LAST-MODIFIED:20220228T184000Z
UID:10006342-1652536800-1652536800@fishercenter.bard.edu
SUMMARY:Senior Projects in Dance and Multidisciplinary Studies
DESCRIPTION:
URL:https://fishercenter.bard.edu/events/senior-projects-in-dance-and-multidisciplinary-studies/2022-05-14/1/
LOCATION:Fisher Center\, LUMA Theater
CATEGORIES:Dance Program
ATTACH;FMTTYPE=image/jpeg:https://fishercenter.bard.edu/wp-content/uploads/2022/02/senior-dance_22-e1646073571813.jpg
END:VEVENT
BEGIN:VEVENT
DTSTART;TZID=America/New_York:20220513T193000
DTEND;TZID=America/New_York:20220513T193000
DTSTAMP:20260425T114734
CREATED:20220228T184000Z
LAST-MODIFIED:20220228T184000Z
UID:10006341-1652470200-1652470200@fishercenter.bard.edu
SUMMARY:Senior Projects in Dance and Multidisciplinary Studies
DESCRIPTION:
URL:https://fishercenter.bard.edu/events/senior-projects-in-dance-and-multidisciplinary-studies/
LOCATION:Fisher Center\, LUMA Theater
CATEGORIES:Dance Program
ATTACH;FMTTYPE=image/jpeg:https://fishercenter.bard.edu/wp-content/uploads/2022/02/senior-dance_22-e1646073571813.jpg
END:VEVENT
END:VCALENDAR