BEGIN:VCALENDAR
VERSION:2.0
PRODID:-//Fisher Center at Bard - ECPv6.15.17//NONSGML v1.0//EN
CALSCALE:GREGORIAN
METHOD:PUBLISH
X-WR-CALNAME:Fisher Center at Bard
X-ORIGINAL-URL:https://fishercenter.bard.edu
X-WR-CALDESC:Events for Fisher Center at Bard
REFRESH-INTERVAL;VALUE=DURATION:PT1H
X-Robots-Tag:noindex
X-PUBLISHED-TTL:PT1H
BEGIN:VTIMEZONE
TZID:America/New_York
BEGIN:DAYLIGHT
TZOFFSETFROM:-0500
TZOFFSETTO:-0400
TZNAME:EDT
DTSTART:20180311T070000
END:DAYLIGHT
BEGIN:STANDARD
TZOFFSETFROM:-0400
TZOFFSETTO:-0500
TZNAME:EST
DTSTART:20181104T060000
END:STANDARD
BEGIN:DAYLIGHT
TZOFFSETFROM:-0500
TZOFFSETTO:-0400
TZNAME:EDT
DTSTART:20190310T070000
END:DAYLIGHT
BEGIN:STANDARD
TZOFFSETFROM:-0400
TZOFFSETTO:-0500
TZNAME:EST
DTSTART:20191103T060000
END:STANDARD
BEGIN:DAYLIGHT
TZOFFSETFROM:-0500
TZOFFSETTO:-0400
TZNAME:EDT
DTSTART:20200308T070000
END:DAYLIGHT
BEGIN:STANDARD
TZOFFSETFROM:-0400
TZOFFSETTO:-0500
TZNAME:EST
DTSTART:20201101T060000
END:STANDARD
BEGIN:DAYLIGHT
TZOFFSETFROM:-0500
TZOFFSETTO:-0400
TZNAME:EDT
DTSTART:20210314T070000
END:DAYLIGHT
BEGIN:STANDARD
TZOFFSETFROM:-0400
TZOFFSETTO:-0500
TZNAME:EST
DTSTART:20211107T060000
END:STANDARD
BEGIN:DAYLIGHT
TZOFFSETFROM:-0500
TZOFFSETTO:-0400
TZNAME:EDT
DTSTART:20220313T070000
END:DAYLIGHT
BEGIN:STANDARD
TZOFFSETFROM:-0400
TZOFFSETTO:-0500
TZNAME:EST
DTSTART:20221106T060000
END:STANDARD
BEGIN:DAYLIGHT
TZOFFSETFROM:-0500
TZOFFSETTO:-0400
TZNAME:EDT
DTSTART:20230312T070000
END:DAYLIGHT
BEGIN:STANDARD
TZOFFSETFROM:-0400
TZOFFSETTO:-0500
TZNAME:EST
DTSTART:20231105T060000
END:STANDARD
END:VTIMEZONE
BEGIN:VEVENT
DTSTART;TZID=America/New_York:20220626T140000
DTEND;TZID=America/New_York:20220626T140000
DTSTAMP:20260425T145135
CREATED:20220301T200640Z
LAST-MODIFIED:20220715T123712Z
UID:10005410-1656252000-1656252000@fishercenter.bard.edu
SUMMARY:Molière's Dom Juan
DESCRIPTION:
URL:https://fishercenter.bard.edu/events/dom-juan/
LOCATION:Fisher Center\, LUMA Theater
CATEGORIES:Bard SummerScape
ATTACH;FMTTYPE=image/jpeg:https://fishercenter.bard.edu/wp-content/uploads/2022/03/DOM_JUAN_Baranova-2090-Edit-scaled-e1654535954778.jpg
END:VEVENT
BEGIN:VEVENT
DTSTART;TZID=America/New_York:20220625T193000
DTEND;TZID=America/New_York:20220625T193000
DTSTAMP:20260425T145135
CREATED:20220301T200640Z
LAST-MODIFIED:20220715T123712Z
UID:10005409-1656185400-1656185400@fishercenter.bard.edu
SUMMARY:Molière's Dom Juan
DESCRIPTION:
URL:https://fishercenter.bard.edu/events/dom-juan/
LOCATION:Fisher Center\, LUMA Theater
CATEGORIES:Bard SummerScape
ATTACH;FMTTYPE=image/jpeg:https://fishercenter.bard.edu/wp-content/uploads/2022/03/DOM_JUAN_Baranova-2090-Edit-scaled-e1654535954778.jpg
END:VEVENT
BEGIN:VEVENT
DTSTART;TZID=America/New_York:20220624T193000
DTEND;TZID=America/New_York:20220624T193000
DTSTAMP:20260425T145135
CREATED:20220301T200640Z
LAST-MODIFIED:20220715T123712Z
UID:10005408-1656099000-1656099000@fishercenter.bard.edu
SUMMARY:Molière's Dom Juan
DESCRIPTION:
URL:https://fishercenter.bard.edu/events/dom-juan/
LOCATION:Fisher Center\, LUMA Theater
CATEGORIES:Bard SummerScape
ATTACH;FMTTYPE=image/jpeg:https://fishercenter.bard.edu/wp-content/uploads/2022/03/DOM_JUAN_Baranova-2090-Edit-scaled-e1654535954778.jpg
END:VEVENT
BEGIN:VEVENT
DTSTART;TZID=America/New_York:20220514T193000
DTEND;TZID=America/New_York:20220514T193000
DTSTAMP:20260425T145135
CREATED:20220228T184000Z
LAST-MODIFIED:20220228T184000Z
UID:10006343-1652556600-1652556600@fishercenter.bard.edu
SUMMARY:Senior Projects in Dance and Multidisciplinary Studies
DESCRIPTION:
URL:https://fishercenter.bard.edu/events/senior-projects-in-dance-and-multidisciplinary-studies/2022-05-14/2/
LOCATION:Fisher Center\, LUMA Theater
CATEGORIES:Dance Program
ATTACH;FMTTYPE=image/jpeg:https://fishercenter.bard.edu/wp-content/uploads/2022/02/senior-dance_22-e1646073571813.jpg
END:VEVENT
BEGIN:VEVENT
DTSTART;TZID=America/New_York:20220514T140000
DTEND;TZID=America/New_York:20220514T140000
DTSTAMP:20260425T145135
CREATED:20220228T184000Z
LAST-MODIFIED:20220228T184000Z
UID:10006342-1652536800-1652536800@fishercenter.bard.edu
SUMMARY:Senior Projects in Dance and Multidisciplinary Studies
DESCRIPTION:
URL:https://fishercenter.bard.edu/events/senior-projects-in-dance-and-multidisciplinary-studies/2022-05-14/1/
LOCATION:Fisher Center\, LUMA Theater
CATEGORIES:Dance Program
ATTACH;FMTTYPE=image/jpeg:https://fishercenter.bard.edu/wp-content/uploads/2022/02/senior-dance_22-e1646073571813.jpg
END:VEVENT
BEGIN:VEVENT
DTSTART;TZID=America/New_York:20220513T193000
DTEND;TZID=America/New_York:20220513T193000
DTSTAMP:20260425T145135
CREATED:20220228T184000Z
LAST-MODIFIED:20220228T184000Z
UID:10006341-1652470200-1652470200@fishercenter.bard.edu
SUMMARY:Senior Projects in Dance and Multidisciplinary Studies
DESCRIPTION:
URL:https://fishercenter.bard.edu/events/senior-projects-in-dance-and-multidisciplinary-studies/
LOCATION:Fisher Center\, LUMA Theater
CATEGORIES:Dance Program
ATTACH;FMTTYPE=image/jpeg:https://fishercenter.bard.edu/wp-content/uploads/2022/02/senior-dance_22-e1646073571813.jpg
END:VEVENT
BEGIN:VEVENT
DTSTART;TZID=America/New_York:20220512T193000
DTEND;TZID=America/New_York:20220512T193000
DTSTAMP:20260425T145135
CREATED:20220228T184000Z
LAST-MODIFIED:20220228T184000Z
UID:10006340-1652383800-1652383800@fishercenter.bard.edu
SUMMARY:Senior Projects in Dance and Multidisciplinary Studies
DESCRIPTION:
URL:https://fishercenter.bard.edu/events/senior-projects-in-dance-and-multidisciplinary-studies/
LOCATION:Fisher Center\, LUMA Theater
CATEGORIES:Dance Program
ATTACH;FMTTYPE=image/jpeg:https://fishercenter.bard.edu/wp-content/uploads/2022/02/senior-dance_22-e1646073571813.jpg
END:VEVENT
BEGIN:VEVENT
DTSTART;TZID=America/New_York:20220430T193000
DTEND;TZID=America/New_York:20220430T193000
DTSTAMP:20260425T145135
CREATED:20220228T183109Z
LAST-MODIFIED:20220228T183648Z
UID:10006337-1651347000-1651347000@fishercenter.bard.edu
SUMMARY:Faculty Dance Concert
DESCRIPTION:
URL:https://fishercenter.bard.edu/events/faculty-dance-concert-22/2022-04-30/2/
LOCATION:Fisher Center\, LUMA Theater
CATEGORIES:Dance Program
ATTACH;FMTTYPE=image/jpeg:https://fishercenter.bard.edu/wp-content/uploads/2022/02/facultydance-e1646073401282.jpg
END:VEVENT
BEGIN:VEVENT
DTSTART;TZID=America/New_York:20220430T140000
DTEND;TZID=America/New_York:20220430T140000
DTSTAMP:20260425T145135
CREATED:20220228T183109Z
LAST-MODIFIED:20220228T183648Z
UID:10006336-1651327200-1651327200@fishercenter.bard.edu
SUMMARY:Faculty Dance Concert
DESCRIPTION:
URL:https://fishercenter.bard.edu/events/faculty-dance-concert-22/2022-04-30/1/
LOCATION:Fisher Center\, LUMA Theater
CATEGORIES:Dance Program
ATTACH;FMTTYPE=image/jpeg:https://fishercenter.bard.edu/wp-content/uploads/2022/02/facultydance-e1646073401282.jpg
END:VEVENT
BEGIN:VEVENT
DTSTART;TZID=America/New_York:20220429T193000
DTEND;TZID=America/New_York:20220429T193000
DTSTAMP:20260425T145135
CREATED:20220228T183109Z
LAST-MODIFIED:20220228T183648Z
UID:10006335-1651260600-1651260600@fishercenter.bard.edu
SUMMARY:Faculty Dance Concert
DESCRIPTION:
URL:https://fishercenter.bard.edu/events/faculty-dance-concert-22/
LOCATION:Fisher Center\, LUMA Theater
CATEGORIES:Dance Program
ATTACH;FMTTYPE=image/jpeg:https://fishercenter.bard.edu/wp-content/uploads/2022/02/facultydance-e1646073401282.jpg
END:VEVENT
BEGIN:VEVENT
DTSTART;TZID=America/New_York:20220428T193000
DTEND;TZID=America/New_York:20220428T193000
DTSTAMP:20260425T145135
CREATED:20220228T183109Z
LAST-MODIFIED:20220228T183648Z
UID:10006334-1651174200-1651174200@fishercenter.bard.edu
SUMMARY:Faculty Dance Concert
DESCRIPTION:
URL:https://fishercenter.bard.edu/events/faculty-dance-concert-22/
LOCATION:Fisher Center\, LUMA Theater
CATEGORIES:Dance Program
ATTACH;FMTTYPE=image/jpeg:https://fishercenter.bard.edu/wp-content/uploads/2022/02/facultydance-e1646073401282.jpg
END:VEVENT
BEGIN:VEVENT
DTSTART;TZID=America/New_York:20220421T193000
DTEND;TZID=America/New_York:20220421T193000
DTSTAMP:20260425T145135
CREATED:20220228T184224Z
LAST-MODIFIED:20220421T133356Z
UID:10006344-1650569400-1650569400@fishercenter.bard.edu
SUMMARY:Gibney Work-in-Progress showing of Re | Build | Construct
DESCRIPTION:
URL:https://fishercenter.bard.edu/events/gibney-work-in-progress-showing/
LOCATION:Fisher Center\, LUMA Theater
CATEGORIES:Dance Program
ATTACH;FMTTYPE=image/jpeg:https://fishercenter.bard.edu/wp-content/uploads/2022/02/gibney.jpg
END:VEVENT
BEGIN:VEVENT
DTSTART;TZID=America/New_York:20220410T140000
DTEND;TZID=America/New_York:20220410T140000
DTSTAMP:20260425T145135
CREATED:20220228T183343Z
LAST-MODIFIED:20220407T152611Z
UID:10006339-1649599200-1649599200@fishercenter.bard.edu
SUMMARY:Show & Tell
DESCRIPTION:
URL:https://fishercenter.bard.edu/events/show-tell/
LOCATION:Fisher Center\, LUMA Theater
CATEGORIES:Theater & Performance Program
ATTACH;FMTTYPE=image/png:https://fishercenter.bard.edu/wp-content/uploads/2022/02/Show-Tell-no-title-1-e1648823234749.png
END:VEVENT
BEGIN:VEVENT
DTSTART;TZID=America/New_York:20220409T193000
DTEND;TZID=America/New_York:20220409T193000
DTSTAMP:20260425T145135
CREATED:20220228T183343Z
LAST-MODIFIED:20220407T152611Z
UID:10006338-1649532600-1649532600@fishercenter.bard.edu
SUMMARY:Show & Tell
DESCRIPTION:
URL:https://fishercenter.bard.edu/events/show-tell/
LOCATION:Fisher Center\, LUMA Theater
CATEGORIES:Theater & Performance Program
ATTACH;FMTTYPE=image/png:https://fishercenter.bard.edu/wp-content/uploads/2022/02/Show-Tell-no-title-1-e1648823234749.png
END:VEVENT
BEGIN:VEVENT
DTSTART;TZID=America/New_York:20220312T193000
DTEND;TZID=America/New_York:20220312T193000
DTSTAMP:20260425T145135
CREATED:20220223T145220Z
LAST-MODIFIED:20220312T175815Z
UID:10006333-1647113400-1647113400@fishercenter.bard.edu
SUMMARY:Field Work
DESCRIPTION:
URL:https://fishercenter.bard.edu/events/field-work/
LOCATION:Fisher Center\, LUMA Theater
CATEGORIES:Dance Program
ATTACH;FMTTYPE=image/jpeg:https://fishercenter.bard.edu/wp-content/uploads/2022/02/fieldwork.jpg
END:VEVENT
BEGIN:VEVENT
DTSTART;TZID=America/New_York:20220311T193000
DTEND;TZID=America/New_York:20220311T193000
DTSTAMP:20260425T145135
CREATED:20220223T145220Z
LAST-MODIFIED:20220312T175815Z
UID:10006332-1647027000-1647027000@fishercenter.bard.edu
SUMMARY:Field Work
DESCRIPTION:
URL:https://fishercenter.bard.edu/events/field-work/
LOCATION:Fisher Center\, LUMA Theater
CATEGORIES:Dance Program
ATTACH;FMTTYPE=image/jpeg:https://fishercenter.bard.edu/wp-content/uploads/2022/02/fieldwork.jpg
END:VEVENT
BEGIN:VEVENT
DTSTART;TZID=America/New_York:20220310T193000
DTEND;TZID=America/New_York:20220310T193000
DTSTAMP:20260425T145135
CREATED:20220223T145220Z
LAST-MODIFIED:20220312T175815Z
UID:10006331-1646940600-1646940600@fishercenter.bard.edu
SUMMARY:Field Work
DESCRIPTION:
URL:https://fishercenter.bard.edu/events/field-work/
LOCATION:Fisher Center\, LUMA Theater
CATEGORIES:Dance Program
ATTACH;FMTTYPE=image/jpeg:https://fishercenter.bard.edu/wp-content/uploads/2022/02/fieldwork.jpg
END:VEVENT
BEGIN:VEVENT
DTSTART;TZID=America/New_York:20220227T140000
DTEND;TZID=America/New_York:20220227T140000
DTSTAMP:20260425T145135
CREATED:20211130T233447Z
LAST-MODIFIED:20230113T191954Z
UID:10005351-1645970400-1645970400@fishercenter.bard.edu
SUMMARY:Senior Project Festival 2022
DESCRIPTION:
URL:https://fishercenter.bard.edu/events/sproj-festival-2022/
LOCATION:Fisher Center\, LUMA Theater
CATEGORIES:Theater & Performance Program
ATTACH;FMTTYPE=image/jpeg:https://fishercenter.bard.edu/wp-content/uploads/2021/11/sproj-2-e1644503907390.jpg
END:VEVENT
BEGIN:VEVENT
DTSTART;TZID=America/New_York:20220226T193000
DTEND;TZID=America/New_York:20220226T193000
DTSTAMP:20260425T145135
CREATED:20211130T233447Z
LAST-MODIFIED:20230113T191954Z
UID:10005350-1645903800-1645903800@fishercenter.bard.edu
SUMMARY:Senior Project Festival 2022
DESCRIPTION:
URL:https://fishercenter.bard.edu/events/sproj-festival-2022/2022-02-26/2/
LOCATION:Fisher Center\, LUMA Theater
CATEGORIES:Theater & Performance Program
ATTACH;FMTTYPE=image/jpeg:https://fishercenter.bard.edu/wp-content/uploads/2021/11/sproj-2-e1644503907390.jpg
END:VEVENT
BEGIN:VEVENT
DTSTART;TZID=America/New_York:20220226T140000
DTEND;TZID=America/New_York:20220226T140000
DTSTAMP:20260425T145135
CREATED:20211130T233447Z
LAST-MODIFIED:20230113T191954Z
UID:10005349-1645884000-1645884000@fishercenter.bard.edu
SUMMARY:Senior Project Festival 2022
DESCRIPTION:
URL:https://fishercenter.bard.edu/events/sproj-festival-2022/2022-02-26/1/
LOCATION:Fisher Center\, LUMA Theater
CATEGORIES:Theater & Performance Program
ATTACH;FMTTYPE=image/jpeg:https://fishercenter.bard.edu/wp-content/uploads/2021/11/sproj-2-e1644503907390.jpg
END:VEVENT
BEGIN:VEVENT
DTSTART;TZID=America/New_York:20220225T193000
DTEND;TZID=America/New_York:20220225T193000
DTSTAMP:20260425T145135
CREATED:20211130T233447Z
LAST-MODIFIED:20230113T191954Z
UID:10005348-1645817400-1645817400@fishercenter.bard.edu
SUMMARY:Senior Project Festival 2022
DESCRIPTION:
URL:https://fishercenter.bard.edu/events/sproj-festival-2022/
LOCATION:Fisher Center\, LUMA Theater
CATEGORIES:Theater & Performance Program
ATTACH;FMTTYPE=image/jpeg:https://fishercenter.bard.edu/wp-content/uploads/2021/11/sproj-2-e1644503907390.jpg
END:VEVENT
BEGIN:VEVENT
DTSTART;TZID=America/New_York:20220206T150000
DTEND;TZID=America/New_York:20220206T150000
DTSTAMP:20260425T145135
CREATED:20211214T010555Z
LAST-MODIFIED:20220128T202500Z
UID:10005389-1644159600-1644159600@fishercenter.bard.edu
SUMMARY:Companions
DESCRIPTION:
URL:https://fishercenter.bard.edu/events/companions/
LOCATION:Fisher Center\, LUMA Theater
CATEGORIES:Music Program
ATTACH;FMTTYPE=image/jpeg:https://fishercenter.bard.edu/wp-content/uploads/2021/12/Companions-publ-pic-scaled-e1643139582353.jpg
END:VEVENT
BEGIN:VEVENT
DTSTART;TZID=America/New_York:20220205T193000
DTEND;TZID=America/New_York:20220205T193000
DTSTAMP:20260425T145135
CREATED:20211214T010555Z
LAST-MODIFIED:20220128T202500Z
UID:10005388-1644089400-1644089400@fishercenter.bard.edu
SUMMARY:Companions
DESCRIPTION:
URL:https://fishercenter.bard.edu/events/companions/
LOCATION:Fisher Center\, LUMA Theater
CATEGORIES:Music Program
ATTACH;FMTTYPE=image/jpeg:https://fishercenter.bard.edu/wp-content/uploads/2021/12/Companions-publ-pic-scaled-e1643139582353.jpg
END:VEVENT
BEGIN:VEVENT
DTSTART;TZID=America/New_York:20211211T193000
DTEND;TZID=America/New_York:20211211T193000
DTSTAMP:20260425T145135
CREATED:20211130T234016Z
LAST-MODIFIED:20211213T183204Z
UID:10005372-1639251000-1639251000@fishercenter.bard.edu
SUMMARY:The Myth of Heritage
DESCRIPTION:
URL:https://fishercenter.bard.edu/events/senior-dance-2021/2021-12-11/2/
LOCATION:Fisher Center\, LUMA Theater
CATEGORIES:Dance Program
ATTACH;FMTTYPE=image/jpeg:https://fishercenter.bard.edu/wp-content/uploads/2021/11/140481.jpg
END:VEVENT
BEGIN:VEVENT
DTSTART;TZID=America/New_York:20211211T140000
DTEND;TZID=America/New_York:20211211T140000
DTSTAMP:20260425T145135
CREATED:20211130T234016Z
LAST-MODIFIED:20211213T183204Z
UID:10005371-1639231200-1639231200@fishercenter.bard.edu
SUMMARY:The Myth of Heritage
DESCRIPTION:
URL:https://fishercenter.bard.edu/events/senior-dance-2021/2021-12-11/1/
LOCATION:Fisher Center\, LUMA Theater
CATEGORIES:Dance Program
ATTACH;FMTTYPE=image/jpeg:https://fishercenter.bard.edu/wp-content/uploads/2021/11/140481.jpg
END:VEVENT
BEGIN:VEVENT
DTSTART;TZID=America/New_York:20211210T193000
DTEND;TZID=America/New_York:20211210T193000
DTSTAMP:20260425T145135
CREATED:20211130T234016Z
LAST-MODIFIED:20211213T183204Z
UID:10005370-1639164600-1639164600@fishercenter.bard.edu
SUMMARY:The Myth of Heritage
DESCRIPTION:
URL:https://fishercenter.bard.edu/events/senior-dance-2021/
LOCATION:Fisher Center\, LUMA Theater
CATEGORIES:Dance Program
ATTACH;FMTTYPE=image/jpeg:https://fishercenter.bard.edu/wp-content/uploads/2021/11/140481.jpg
END:VEVENT
BEGIN:VEVENT
DTSTART;TZID=America/New_York:20211209T193000
DTEND;TZID=America/New_York:20211211T193000
DTSTAMP:20260425T145135
CREATED:20211130T234016Z
LAST-MODIFIED:20211213T183204Z
UID:10005369-1639078200-1639251000@fishercenter.bard.edu
SUMMARY:The Myth of Heritage
DESCRIPTION:
URL:https://fishercenter.bard.edu/events/senior-dance-2021/
LOCATION:Fisher Center\, LUMA Theater
CATEGORIES:Dance Program
ATTACH;FMTTYPE=image/jpeg:https://fishercenter.bard.edu/wp-content/uploads/2021/11/140481.jpg
END:VEVENT
BEGIN:VEVENT
DTSTART;TZID=America/New_York:20191012T193000
DTEND;TZID=America/New_York:20191012T193000
DTSTAMP:20260425T145135
CREATED:20211130T231721Z
LAST-MODIFIED:20240711T203312Z
UID:10006211-1570908600-1570908600@fishercenter.bard.edu
SUMMARY:The Ars Nova production of Underground Railroad Game
DESCRIPTION:
URL:https://fishercenter.bard.edu/events/underground-railroad-game/
LOCATION:Fisher Center\, LUMA Theater
CATEGORIES:Fisher Center
ATTACH;FMTTYPE=image/jpeg:https://fishercenter.bard.edu/wp-content/uploads/2021/11/136411.jpg
END:VEVENT
BEGIN:VEVENT
DTSTART;TZID=America/New_York:20191011T193000
DTEND;TZID=America/New_York:20191011T193000
DTSTAMP:20260425T145136
CREATED:20211130T231721Z
LAST-MODIFIED:20240711T203312Z
UID:10006210-1570822200-1570822200@fishercenter.bard.edu
SUMMARY:The Ars Nova production of Underground Railroad Game
DESCRIPTION:
URL:https://fishercenter.bard.edu/events/underground-railroad-game/
LOCATION:Fisher Center\, LUMA Theater
CATEGORIES:Fisher Center
ATTACH;FMTTYPE=image/jpeg:https://fishercenter.bard.edu/wp-content/uploads/2021/11/136411.jpg
END:VEVENT
BEGIN:VEVENT
DTSTART;TZID=America/New_York:20191010T193000
DTEND;TZID=America/New_York:20191010T193000
DTSTAMP:20260425T145136
CREATED:20211130T231721Z
LAST-MODIFIED:20240711T203312Z
UID:10006209-1570735800-1570735800@fishercenter.bard.edu
SUMMARY:The Ars Nova production of Underground Railroad Game
DESCRIPTION:
URL:https://fishercenter.bard.edu/events/underground-railroad-game/
LOCATION:Fisher Center\, LUMA Theater
CATEGORIES:Fisher Center
ATTACH;FMTTYPE=image/jpeg:https://fishercenter.bard.edu/wp-content/uploads/2021/11/136411.jpg
END:VEVENT
END:VCALENDAR