BEGIN:VCALENDAR
VERSION:2.0
PRODID:-//Fisher Center at Bard - ECPv6.15.17//NONSGML v1.0//EN
CALSCALE:GREGORIAN
METHOD:PUBLISH
X-WR-CALNAME:Fisher Center at Bard
X-ORIGINAL-URL:https://fishercenter.bard.edu
X-WR-CALDESC:Events for Fisher Center at Bard
REFRESH-INTERVAL;VALUE=DURATION:PT1H
X-Robots-Tag:noindex
X-PUBLISHED-TTL:PT1H
BEGIN:VTIMEZONE
TZID:America/New_York
BEGIN:DAYLIGHT
TZOFFSETFROM:-0500
TZOFFSETTO:-0400
TZNAME:EDT
DTSTART:20230312T070000
END:DAYLIGHT
BEGIN:STANDARD
TZOFFSETFROM:-0400
TZOFFSETTO:-0500
TZNAME:EST
DTSTART:20231105T060000
END:STANDARD
BEGIN:DAYLIGHT
TZOFFSETFROM:-0500
TZOFFSETTO:-0400
TZNAME:EDT
DTSTART:20240310T070000
END:DAYLIGHT
BEGIN:STANDARD
TZOFFSETFROM:-0400
TZOFFSETTO:-0500
TZNAME:EST
DTSTART:20241103T060000
END:STANDARD
BEGIN:DAYLIGHT
TZOFFSETFROM:-0500
TZOFFSETTO:-0400
TZNAME:EDT
DTSTART:20250309T070000
END:DAYLIGHT
BEGIN:STANDARD
TZOFFSETFROM:-0400
TZOFFSETTO:-0500
TZNAME:EST
DTSTART:20251102T060000
END:STANDARD
BEGIN:DAYLIGHT
TZOFFSETFROM:-0500
TZOFFSETTO:-0400
TZNAME:EDT
DTSTART:20260308T070000
END:DAYLIGHT
BEGIN:STANDARD
TZOFFSETFROM:-0400
TZOFFSETTO:-0500
TZNAME:EST
DTSTART:20261101T060000
END:STANDARD
END:VTIMEZONE
BEGIN:VEVENT
DTSTART;TZID=America/New_York:20250501T193000
DTEND;TZID=America/New_York:20250501T193000
DTSTAMP:20260424T122024
CREATED:20241204T174454Z
LAST-MODIFIED:20250417T021430Z
UID:10006673-1746127800-1746127800@fishercenter.bard.edu
SUMMARY:Chora
DESCRIPTION:
URL:https://fishercenter.bard.edu/events/faculty-dance-concert-4/
LOCATION:Fisher Center\, LUMA Theater
CATEGORIES:Dance Program
ATTACH;FMTTYPE=image/jpeg:https://fishercenter.bard.edu/wp-content/uploads/2024/12/unnamed-scaled.jpg
END:VEVENT
BEGIN:VEVENT
DTSTART;TZID=America/New_York:20250420T160000
DTEND;TZID=America/New_York:20250420T160000
DTSTAMP:20260424T122024
CREATED:20241212T162517Z
LAST-MODIFIED:20250411T180122Z
UID:10006707-1745164800-1745164800@fishercenter.bard.edu
SUMMARY:Good Penny
DESCRIPTION:
URL:https://fishercenter.bard.edu/events/good-penny/
LOCATION:Fisher Center\, LUMA Theater
CATEGORIES:Theater & Performance Program
ATTACH;FMTTYPE=image/jpeg:https://fishercenter.bard.edu/wp-content/uploads/2024/12/Good-Penny-Revised-Key-Art-Blue-Lydian-Coin-scaled.jpg
END:VEVENT
BEGIN:VEVENT
DTSTART;TZID=America/New_York:20250419T193000
DTEND;TZID=America/New_York:20250419T193000
DTSTAMP:20260424T122024
CREATED:20241212T162517Z
LAST-MODIFIED:20250411T180122Z
UID:10006706-1745091000-1745091000@fishercenter.bard.edu
SUMMARY:Good Penny
DESCRIPTION:
URL:https://fishercenter.bard.edu/events/good-penny/2025-04-19/2/
LOCATION:Fisher Center\, LUMA Theater
CATEGORIES:Theater & Performance Program
ATTACH;FMTTYPE=image/jpeg:https://fishercenter.bard.edu/wp-content/uploads/2024/12/Good-Penny-Revised-Key-Art-Blue-Lydian-Coin-scaled.jpg
END:VEVENT
BEGIN:VEVENT
DTSTART;TZID=America/New_York:20250419T140000
DTEND;TZID=America/New_York:20250419T140000
DTSTAMP:20260424T122024
CREATED:20241212T162517Z
LAST-MODIFIED:20250411T180122Z
UID:10006705-1745071200-1745071200@fishercenter.bard.edu
SUMMARY:Good Penny
DESCRIPTION:
URL:https://fishercenter.bard.edu/events/good-penny/2025-04-19/1/
LOCATION:Fisher Center\, LUMA Theater
CATEGORIES:Theater & Performance Program
ATTACH;FMTTYPE=image/jpeg:https://fishercenter.bard.edu/wp-content/uploads/2024/12/Good-Penny-Revised-Key-Art-Blue-Lydian-Coin-scaled.jpg
END:VEVENT
BEGIN:VEVENT
DTSTART;TZID=America/New_York:20250418T193000
DTEND;TZID=America/New_York:20250418T193000
DTSTAMP:20260424T122024
CREATED:20241212T162517Z
LAST-MODIFIED:20250411T180122Z
UID:10006704-1745004600-1745004600@fishercenter.bard.edu
SUMMARY:Good Penny
DESCRIPTION:
URL:https://fishercenter.bard.edu/events/good-penny/
LOCATION:Fisher Center\, LUMA Theater
CATEGORIES:Theater & Performance Program
ATTACH;FMTTYPE=image/jpeg:https://fishercenter.bard.edu/wp-content/uploads/2024/12/Good-Penny-Revised-Key-Art-Blue-Lydian-Coin-scaled.jpg
END:VEVENT
BEGIN:VEVENT
DTSTART;TZID=America/New_York:20250406T150000
DTEND;TZID=America/New_York:20250406T150000
DTSTAMP:20260424T122024
CREATED:20241212T131210Z
LAST-MODIFIED:20250404T164312Z
UID:10006685-1743951600-1743951600@fishercenter.bard.edu
SUMMARY:Masterclass
DESCRIPTION:
URL:https://fishercenter.bard.edu/events/masterclass/
LOCATION:Fisher Center\, LUMA Theater
CATEGORIES:Fisher Center
ATTACH;FMTTYPE=image/jpeg:https://fishercenter.bard.edu/wp-content/uploads/2024/12/MASTERCLASS-Adrienne-Truscott-_-Feidlim-Cannon.-Photo_-Ste-Murray-2048x1366-1.jpg
END:VEVENT
BEGIN:VEVENT
DTSTART;TZID=America/New_York:20250405T193000
DTEND;TZID=America/New_York:20250405T193000
DTSTAMP:20260424T122024
CREATED:20241212T131210Z
LAST-MODIFIED:20250404T164312Z
UID:10006684-1743881400-1743881400@fishercenter.bard.edu
SUMMARY:Masterclass
DESCRIPTION:
URL:https://fishercenter.bard.edu/events/masterclass/2025-04-05/2/
LOCATION:Fisher Center\, LUMA Theater
CATEGORIES:Fisher Center
ATTACH;FMTTYPE=image/jpeg:https://fishercenter.bard.edu/wp-content/uploads/2024/12/MASTERCLASS-Adrienne-Truscott-_-Feidlim-Cannon.-Photo_-Ste-Murray-2048x1366-1.jpg
END:VEVENT
BEGIN:VEVENT
DTSTART;TZID=America/New_York:20250405T140000
DTEND;TZID=America/New_York:20250405T140000
DTSTAMP:20260424T122024
CREATED:20241212T131210Z
LAST-MODIFIED:20250404T164312Z
UID:10006683-1743861600-1743861600@fishercenter.bard.edu
SUMMARY:Masterclass
DESCRIPTION:
URL:https://fishercenter.bard.edu/events/masterclass/2025-04-05/1/
LOCATION:Fisher Center\, LUMA Theater
CATEGORIES:Fisher Center
ATTACH;FMTTYPE=image/jpeg:https://fishercenter.bard.edu/wp-content/uploads/2024/12/MASTERCLASS-Adrienne-Truscott-_-Feidlim-Cannon.-Photo_-Ste-Murray-2048x1366-1.jpg
END:VEVENT
BEGIN:VEVENT
DTSTART;TZID=America/New_York:20250404T193000
DTEND;TZID=America/New_York:20250404T193000
DTSTAMP:20260424T122024
CREATED:20241212T131210Z
LAST-MODIFIED:20250404T164312Z
UID:10006682-1743795000-1743795000@fishercenter.bard.edu
SUMMARY:Masterclass
DESCRIPTION:
URL:https://fishercenter.bard.edu/events/masterclass/
LOCATION:Fisher Center\, LUMA Theater
CATEGORIES:Fisher Center
ATTACH;FMTTYPE=image/jpeg:https://fishercenter.bard.edu/wp-content/uploads/2024/12/MASTERCLASS-Adrienne-Truscott-_-Feidlim-Cannon.-Photo_-Ste-Murray-2048x1366-1.jpg
END:VEVENT
BEGIN:VEVENT
DTSTART;TZID=America/New_York:20250403T193000
DTEND;TZID=America/New_York:20250403T193000
DTSTAMP:20260424T122024
CREATED:20241212T131210Z
LAST-MODIFIED:20250404T164312Z
UID:10006681-1743708600-1743708600@fishercenter.bard.edu
SUMMARY:Masterclass
DESCRIPTION:
URL:https://fishercenter.bard.edu/events/masterclass/
LOCATION:Fisher Center\, LUMA Theater
CATEGORIES:Fisher Center
ATTACH;FMTTYPE=image/jpeg:https://fishercenter.bard.edu/wp-content/uploads/2024/12/MASTERCLASS-Adrienne-Truscott-_-Feidlim-Cannon.-Photo_-Ste-Murray-2048x1366-1.jpg
END:VEVENT
BEGIN:VEVENT
DTSTART;TZID=America/New_York:20250309T140000
DTEND;TZID=America/New_York:20250309T140000
DTSTAMP:20260424T122024
CREATED:20241211T185709Z
LAST-MODIFIED:20260303T161214Z
UID:10006680-1741528800-1741528800@fishercenter.bard.edu
SUMMARY:Senior Project Festival
DESCRIPTION:
URL:https://fishercenter.bard.edu/events/senior-project-festival-5/
LOCATION:Fisher Center\, LUMA Theater
CATEGORIES:Theater & Performance Program
ATTACH;FMTTYPE=image/jpeg:https://fishercenter.bard.edu/wp-content/uploads/2024/12/SPROJ_2024_2_29_1919-scaled.jpg
END:VEVENT
BEGIN:VEVENT
DTSTART;TZID=America/New_York:20250308T193000
DTEND;TZID=America/New_York:20250308T193000
DTSTAMP:20260424T122024
CREATED:20241211T185709Z
LAST-MODIFIED:20260303T161214Z
UID:10006679-1741462200-1741462200@fishercenter.bard.edu
SUMMARY:Senior Project Festival
DESCRIPTION:
URL:https://fishercenter.bard.edu/events/senior-project-festival-5/2025-03-08/2/
LOCATION:Fisher Center\, LUMA Theater
CATEGORIES:Theater & Performance Program
ATTACH;FMTTYPE=image/jpeg:https://fishercenter.bard.edu/wp-content/uploads/2024/12/SPROJ_2024_2_29_1919-scaled.jpg
END:VEVENT
BEGIN:VEVENT
DTSTART;TZID=America/New_York:20250308T140000
DTEND;TZID=America/New_York:20250308T140000
DTSTAMP:20260424T122024
CREATED:20241211T185709Z
LAST-MODIFIED:20260303T161214Z
UID:10006678-1741442400-1741442400@fishercenter.bard.edu
SUMMARY:Senior Project Festival
DESCRIPTION:
URL:https://fishercenter.bard.edu/events/senior-project-festival-5/2025-03-08/1/
LOCATION:Fisher Center\, LUMA Theater
CATEGORIES:Theater & Performance Program
ATTACH;FMTTYPE=image/jpeg:https://fishercenter.bard.edu/wp-content/uploads/2024/12/SPROJ_2024_2_29_1919-scaled.jpg
END:VEVENT
BEGIN:VEVENT
DTSTART;TZID=America/New_York:20250307T193000
DTEND;TZID=America/New_York:20250307T193000
DTSTAMP:20260424T122024
CREATED:20241211T185709Z
LAST-MODIFIED:20260303T161214Z
UID:10006677-1741375800-1741375800@fishercenter.bard.edu
SUMMARY:Senior Project Festival
DESCRIPTION:
URL:https://fishercenter.bard.edu/events/senior-project-festival-5/
LOCATION:Fisher Center\, LUMA Theater
CATEGORIES:Theater & Performance Program
ATTACH;FMTTYPE=image/jpeg:https://fishercenter.bard.edu/wp-content/uploads/2024/12/SPROJ_2024_2_29_1919-scaled.jpg
END:VEVENT
BEGIN:VEVENT
DTSTART;TZID=America/New_York:20250223T140000
DTEND;TZID=America/New_York:20250223T140000
DTSTAMP:20260424T122024
CREATED:20241212T155634Z
LAST-MODIFIED:20250219T171943Z
UID:10006699-1740319200-1740319200@fishercenter.bard.edu
SUMMARY:Spring Dance Concert
DESCRIPTION:
URL:https://fishercenter.bard.edu/events/spring-dance-concert-2/
LOCATION:Fisher Center\, LUMA Theater
CATEGORIES:Dance Program
ATTACH;FMTTYPE=image/jpeg:https://fishercenter.bard.edu/wp-content/uploads/2024/12/Fall_Dance_Concert_2024_11_6_503-2-scaled-e1734019214474.jpg
END:VEVENT
BEGIN:VEVENT
DTSTART;TZID=America/New_York:20250222T193000
DTEND;TZID=America/New_York:20250222T193000
DTSTAMP:20260424T122024
CREATED:20241212T155634Z
LAST-MODIFIED:20250219T171943Z
UID:10006698-1740252600-1740252600@fishercenter.bard.edu
SUMMARY:Spring Dance Concert
DESCRIPTION:
URL:https://fishercenter.bard.edu/events/spring-dance-concert-2/2025-02-22/2/
LOCATION:Fisher Center\, LUMA Theater
CATEGORIES:Dance Program
ATTACH;FMTTYPE=image/jpeg:https://fishercenter.bard.edu/wp-content/uploads/2024/12/Fall_Dance_Concert_2024_11_6_503-2-scaled-e1734019214474.jpg
END:VEVENT
BEGIN:VEVENT
DTSTART;TZID=America/New_York:20250222T140000
DTEND;TZID=America/New_York:20250222T140000
DTSTAMP:20260424T122024
CREATED:20241212T155634Z
LAST-MODIFIED:20250219T171943Z
UID:10006697-1740232800-1740232800@fishercenter.bard.edu
SUMMARY:Spring Dance Concert
DESCRIPTION:
URL:https://fishercenter.bard.edu/events/spring-dance-concert-2/2025-02-22/1/
LOCATION:Fisher Center\, LUMA Theater
CATEGORIES:Dance Program
ATTACH;FMTTYPE=image/jpeg:https://fishercenter.bard.edu/wp-content/uploads/2024/12/Fall_Dance_Concert_2024_11_6_503-2-scaled-e1734019214474.jpg
END:VEVENT
BEGIN:VEVENT
DTSTART;TZID=America/New_York:20250221T193000
DTEND;TZID=America/New_York:20250221T193000
DTSTAMP:20260424T122024
CREATED:20241212T155634Z
LAST-MODIFIED:20250219T171943Z
UID:10006696-1740166200-1740166200@fishercenter.bard.edu
SUMMARY:Spring Dance Concert
DESCRIPTION:
URL:https://fishercenter.bard.edu/events/spring-dance-concert-2/
LOCATION:Fisher Center\, LUMA Theater
CATEGORIES:Dance Program
ATTACH;FMTTYPE=image/jpeg:https://fishercenter.bard.edu/wp-content/uploads/2024/12/Fall_Dance_Concert_2024_11_6_503-2-scaled-e1734019214474.jpg
END:VEVENT
BEGIN:VEVENT
DTSTART;TZID=America/New_York:20250208T183000
DTEND;TZID=America/New_York:20250208T183000
DTSTAMP:20260424T122024
CREATED:20241212T133233Z
LAST-MODIFIED:20250205T175152Z
UID:10006694-1739039400-1739039400@fishercenter.bard.edu
SUMMARY:TEDxBard
DESCRIPTION:
URL:https://fishercenter.bard.edu/events/tedxbard-2025/2025-02-08/2/
LOCATION:Fisher Center\, LUMA Theater
CATEGORIES:Bard College
ATTACH;FMTTYPE=image/png:https://fishercenter.bard.edu/wp-content/uploads/2024/12/Building-Bridges.png
END:VEVENT
BEGIN:VEVENT
DTSTART;TZID=America/New_York:20250208T140000
DTEND;TZID=America/New_York:20250208T140000
DTSTAMP:20260424T122024
CREATED:20241212T133233Z
LAST-MODIFIED:20250205T175152Z
UID:10006693-1739023200-1739023200@fishercenter.bard.edu
SUMMARY:TEDxBard
DESCRIPTION:
URL:https://fishercenter.bard.edu/events/tedxbard-2025/2025-02-08/1/
LOCATION:Fisher Center\, LUMA Theater
CATEGORIES:Bard College
ATTACH;FMTTYPE=image/png:https://fishercenter.bard.edu/wp-content/uploads/2024/12/Building-Bridges.png
END:VEVENT
BEGIN:VEVENT
DTSTART;TZID=America/New_York:20250202T140000
DTEND;TZID=America/New_York:20250202T140000
DTSTAMP:20260424T122024
CREATED:20241212T132727Z
LAST-MODIFIED:20250129T220546Z
UID:10006690-1738504800-1738504800@fishercenter.bard.edu
SUMMARY:Covens\, Comedy\, Condemnation
DESCRIPTION:
URL:https://fishercenter.bard.edu/events/undergraduate-opera-workshop/
LOCATION:Fisher Center\, LUMA Theater
CATEGORIES:Bard Conservatory,Music Program
ATTACH;FMTTYPE=image/jpeg:https://fishercenter.bard.edu/wp-content/uploads/2024/12/OWS25-e1737819991367.jpg
END:VEVENT
BEGIN:VEVENT
DTSTART;TZID=America/New_York:20250201T193000
DTEND;TZID=America/New_York:20250201T193000
DTSTAMP:20260424T122024
CREATED:20241212T132727Z
LAST-MODIFIED:20250129T220546Z
UID:10006689-1738438200-1738438200@fishercenter.bard.edu
SUMMARY:Covens\, Comedy\, Condemnation
DESCRIPTION:
URL:https://fishercenter.bard.edu/events/undergraduate-opera-workshop/
LOCATION:Fisher Center\, LUMA Theater
CATEGORIES:Bard Conservatory,Music Program
ATTACH;FMTTYPE=image/jpeg:https://fishercenter.bard.edu/wp-content/uploads/2024/12/OWS25-e1737819991367.jpg
END:VEVENT
BEGIN:VEVENT
DTSTART;TZID=America/New_York:20250131T193000
DTEND;TZID=America/New_York:20250131T193000
DTSTAMP:20260424T122024
CREATED:20241212T132727Z
LAST-MODIFIED:20250129T220546Z
UID:10006688-1738351800-1738351800@fishercenter.bard.edu
SUMMARY:Covens\, Comedy\, Condemnation
DESCRIPTION:
URL:https://fishercenter.bard.edu/events/undergraduate-opera-workshop/
LOCATION:Fisher Center\, LUMA Theater
CATEGORIES:Bard Conservatory,Music Program
ATTACH;FMTTYPE=image/jpeg:https://fishercenter.bard.edu/wp-content/uploads/2024/12/OWS25-e1737819991367.jpg
END:VEVENT
BEGIN:VEVENT
DTSTART;TZID=America/New_York:20241220T190000
DTEND;TZID=America/New_York:20241220T190000
DTSTAMP:20260424T122024
CREATED:20241003T132757Z
LAST-MODIFIED:20241218T144557Z
UID:10006672-1734721200-1734721200@fishercenter.bard.edu
SUMMARY:Come Out of the Cold
DESCRIPTION:
URL:https://fishercenter.bard.edu/events/winter-cabaret/
LOCATION:Fisher Center\, LUMA Theater
CATEGORIES:Bard Conservatory
ATTACH;FMTTYPE=image/jpeg:https://fishercenter.bard.edu/wp-content/uploads/2024/10/BCOM_DEC-e1727972804345.jpg
END:VEVENT
BEGIN:VEVENT
DTSTART;TZID=America/New_York:20241214T193000
DTEND;TZID=America/New_York:20241214T193000
DTSTAMP:20260424T122024
CREATED:20241002T130540Z
LAST-MODIFIED:20241002T130540Z
UID:10006664-1734204600-1734204600@fishercenter.bard.edu
SUMMARY:Fall Senior Dance Concert
DESCRIPTION:
URL:https://fishercenter.bard.edu/events/fall-senior-dance-concert/2024-12-14/2/
LOCATION:Fisher Center\, LUMA Theater
CATEGORIES:Dance Program
ATTACH;FMTTYPE=image/jpeg:https://fishercenter.bard.edu/wp-content/uploads/2024/09/Senior-Dance-Fall-2024-scaled.jpg
END:VEVENT
BEGIN:VEVENT
DTSTART;TZID=America/New_York:20241214T140000
DTEND;TZID=America/New_York:20241214T140000
DTSTAMP:20260424T122024
CREATED:20241002T130540Z
LAST-MODIFIED:20241002T130540Z
UID:10006663-1734184800-1734184800@fishercenter.bard.edu
SUMMARY:Fall Senior Dance Concert
DESCRIPTION:
URL:https://fishercenter.bard.edu/events/fall-senior-dance-concert/2024-12-14/1/
LOCATION:Fisher Center\, LUMA Theater
CATEGORIES:Dance Program
ATTACH;FMTTYPE=image/jpeg:https://fishercenter.bard.edu/wp-content/uploads/2024/09/Senior-Dance-Fall-2024-scaled.jpg
END:VEVENT
BEGIN:VEVENT
DTSTART;TZID=America/New_York:20241213T193000
DTEND;TZID=America/New_York:20241213T193000
DTSTAMP:20260424T122024
CREATED:20241002T130540Z
LAST-MODIFIED:20241002T130540Z
UID:10006662-1734118200-1734118200@fishercenter.bard.edu
SUMMARY:Fall Senior Dance Concert
DESCRIPTION:
URL:https://fishercenter.bard.edu/events/fall-senior-dance-concert/
LOCATION:Fisher Center\, LUMA Theater
CATEGORIES:Dance Program
ATTACH;FMTTYPE=image/jpeg:https://fishercenter.bard.edu/wp-content/uploads/2024/09/Senior-Dance-Fall-2024-scaled.jpg
END:VEVENT
BEGIN:VEVENT
DTSTART;TZID=America/New_York:20241212T193000
DTEND;TZID=America/New_York:20241212T193000
DTSTAMP:20260424T122024
CREATED:20241002T130540Z
LAST-MODIFIED:20241002T130540Z
UID:10006661-1734031800-1734031800@fishercenter.bard.edu
SUMMARY:Fall Senior Dance Concert
DESCRIPTION:
URL:https://fishercenter.bard.edu/events/fall-senior-dance-concert/
LOCATION:Fisher Center\, LUMA Theater
CATEGORIES:Dance Program
ATTACH;FMTTYPE=image/jpeg:https://fishercenter.bard.edu/wp-content/uploads/2024/09/Senior-Dance-Fall-2024-scaled.jpg
END:VEVENT
BEGIN:VEVENT
DTSTART;TZID=America/New_York:20241109T193000
DTEND;TZID=America/New_York:20241109T193000
DTSTAMP:20260424T122024
CREATED:20241002T130540Z
LAST-MODIFIED:20241211T230212Z
UID:10006660-1731180600-1731180600@fishercenter.bard.edu
SUMMARY:Fall Dance Concert
DESCRIPTION:
URL:https://fishercenter.bard.edu/events/fall-dance-concert-3/2024-11-09/2/
LOCATION:Fisher Center\, LUMA Theater
CATEGORIES:Dance Program
ATTACH;FMTTYPE=image/jpeg:https://fishercenter.bard.edu/wp-content/uploads/2024/09/Fall-Dance-2024-scaled.jpg
END:VEVENT
BEGIN:VEVENT
DTSTART;TZID=America/New_York:20241109T140000
DTEND;TZID=America/New_York:20241109T140000
DTSTAMP:20260424T122024
CREATED:20241002T130540Z
LAST-MODIFIED:20241211T230212Z
UID:10006659-1731160800-1731160800@fishercenter.bard.edu
SUMMARY:Fall Dance Concert
DESCRIPTION:
URL:https://fishercenter.bard.edu/events/fall-dance-concert-3/2024-11-09/1/
LOCATION:Fisher Center\, LUMA Theater
CATEGORIES:Dance Program
ATTACH;FMTTYPE=image/jpeg:https://fishercenter.bard.edu/wp-content/uploads/2024/09/Fall-Dance-2024-scaled.jpg
END:VEVENT
END:VCALENDAR