BEGIN:VCALENDAR
VERSION:2.0
PRODID:-//Fisher Center at Bard - ECPv6.15.17//NONSGML v1.0//EN
CALSCALE:GREGORIAN
METHOD:PUBLISH
X-WR-CALNAME:Fisher Center at Bard
X-ORIGINAL-URL:https://fishercenter.bard.edu
X-WR-CALDESC:Events for Fisher Center at Bard
REFRESH-INTERVAL;VALUE=DURATION:PT1H
X-Robots-Tag:noindex
X-PUBLISHED-TTL:PT1H
BEGIN:VTIMEZONE
TZID:America/New_York
BEGIN:DAYLIGHT
TZOFFSETFROM:-0500
TZOFFSETTO:-0400
TZNAME:EDT
DTSTART:20230312T070000
END:DAYLIGHT
BEGIN:STANDARD
TZOFFSETFROM:-0400
TZOFFSETTO:-0500
TZNAME:EST
DTSTART:20231105T060000
END:STANDARD
BEGIN:DAYLIGHT
TZOFFSETFROM:-0500
TZOFFSETTO:-0400
TZNAME:EDT
DTSTART:20240310T070000
END:DAYLIGHT
BEGIN:STANDARD
TZOFFSETFROM:-0400
TZOFFSETTO:-0500
TZNAME:EST
DTSTART:20241103T060000
END:STANDARD
BEGIN:DAYLIGHT
TZOFFSETFROM:-0500
TZOFFSETTO:-0400
TZNAME:EDT
DTSTART:20250309T070000
END:DAYLIGHT
BEGIN:STANDARD
TZOFFSETFROM:-0400
TZOFFSETTO:-0500
TZNAME:EST
DTSTART:20251102T060000
END:STANDARD
END:VTIMEZONE
BEGIN:VEVENT
DTSTART;TZID=America/New_York:20240629T193000
DTEND;TZID=America/New_York:20240629T193000
DTSTAMP:20260424T203423
CREATED:20240213T133355Z
LAST-MODIFIED:20240801T193756Z
UID:10006580-1719689400-1719689400@fishercenter.bard.edu
SUMMARY:Ulysses
DESCRIPTION:
URL:https://fishercenter.bard.edu/events/ulysses/2024-06-29/2/
LOCATION:Fisher Center\, LUMA Theater
CATEGORIES:Bard SummerScape
ATTACH;FMTTYPE=image/png:https://fishercenter.bard.edu/wp-content/uploads/2024/02/ERS-Critics-Pick.png
END:VEVENT
BEGIN:VEVENT
DTSTART;TZID=America/New_York:20240629T133000
DTEND;TZID=America/New_York:20240629T133000
DTSTAMP:20260424T203423
CREATED:20240213T133355Z
LAST-MODIFIED:20240801T193756Z
UID:10006579-1719667800-1719667800@fishercenter.bard.edu
SUMMARY:Ulysses
DESCRIPTION:
URL:https://fishercenter.bard.edu/events/ulysses/2024-06-29/1/
LOCATION:Fisher Center\, LUMA Theater
CATEGORIES:Bard SummerScape
ATTACH;FMTTYPE=image/png:https://fishercenter.bard.edu/wp-content/uploads/2024/02/ERS-Critics-Pick.png
END:VEVENT
BEGIN:VEVENT
DTSTART;TZID=America/New_York:20240628T193000
DTEND;TZID=America/New_York:20240628T193000
DTSTAMP:20260424T203423
CREATED:20240213T133355Z
LAST-MODIFIED:20240801T193756Z
UID:10006578-1719603000-1719603000@fishercenter.bard.edu
SUMMARY:Ulysses
DESCRIPTION:
URL:https://fishercenter.bard.edu/events/ulysses/
LOCATION:Fisher Center\, LUMA Theater
CATEGORIES:Bard SummerScape
ATTACH;FMTTYPE=image/png:https://fishercenter.bard.edu/wp-content/uploads/2024/02/ERS-Critics-Pick.png
END:VEVENT
BEGIN:VEVENT
DTSTART;TZID=America/New_York:20240627T193000
DTEND;TZID=America/New_York:20240627T193000
DTSTAMP:20260424T203423
CREATED:20240213T133355Z
LAST-MODIFIED:20240801T193756Z
UID:10006577-1719516600-1719516600@fishercenter.bard.edu
SUMMARY:Ulysses
DESCRIPTION:
URL:https://fishercenter.bard.edu/events/ulysses/
LOCATION:Fisher Center\, LUMA Theater
CATEGORIES:Bard SummerScape
ATTACH;FMTTYPE=image/png:https://fishercenter.bard.edu/wp-content/uploads/2024/02/ERS-Critics-Pick.png
END:VEVENT
BEGIN:VEVENT
DTSTART;TZID=America/New_York:20240626T140000
DTEND;TZID=America/New_York:20240626T140000
DTSTAMP:20260424T203423
CREATED:20240213T133355Z
LAST-MODIFIED:20240801T193756Z
UID:10006576-1719410400-1719410400@fishercenter.bard.edu
SUMMARY:Ulysses
DESCRIPTION:
URL:https://fishercenter.bard.edu/events/ulysses/
LOCATION:Fisher Center\, LUMA Theater
CATEGORIES:Bard SummerScape
ATTACH;FMTTYPE=image/png:https://fishercenter.bard.edu/wp-content/uploads/2024/02/ERS-Critics-Pick.png
END:VEVENT
BEGIN:VEVENT
DTSTART;TZID=America/New_York:20240623T140000
DTEND;TZID=America/New_York:20240623T140000
DTSTAMP:20260424T203423
CREATED:20240213T133355Z
LAST-MODIFIED:20240801T193756Z
UID:10006575-1719151200-1719151200@fishercenter.bard.edu
SUMMARY:Ulysses
DESCRIPTION:
URL:https://fishercenter.bard.edu/events/ulysses/
LOCATION:Fisher Center\, LUMA Theater
CATEGORIES:Bard SummerScape
ATTACH;FMTTYPE=image/png:https://fishercenter.bard.edu/wp-content/uploads/2024/02/ERS-Critics-Pick.png
END:VEVENT
BEGIN:VEVENT
DTSTART;TZID=America/New_York:20240622T200000
DTEND;TZID=America/New_York:20240622T200000
DTSTAMP:20260424T203423
CREATED:20240213T133355Z
LAST-MODIFIED:20240801T193756Z
UID:10006574-1719086400-1719086400@fishercenter.bard.edu
SUMMARY:Ulysses
DESCRIPTION:
URL:https://fishercenter.bard.edu/events/ulysses/
LOCATION:Fisher Center\, LUMA Theater
CATEGORIES:Bard SummerScape
ATTACH;FMTTYPE=image/png:https://fishercenter.bard.edu/wp-content/uploads/2024/02/ERS-Critics-Pick.png
END:VEVENT
BEGIN:VEVENT
DTSTART;TZID=America/New_York:20240621T200000
DTEND;TZID=America/New_York:20240621T200000
DTSTAMP:20260424T203423
CREATED:20240213T133355Z
LAST-MODIFIED:20240801T193756Z
UID:10006573-1719000000-1719000000@fishercenter.bard.edu
SUMMARY:Ulysses
DESCRIPTION:
URL:https://fishercenter.bard.edu/events/ulysses/
LOCATION:Fisher Center\, LUMA Theater
CATEGORIES:Bard SummerScape
ATTACH;FMTTYPE=image/png:https://fishercenter.bard.edu/wp-content/uploads/2024/02/ERS-Critics-Pick.png
END:VEVENT
BEGIN:VEVENT
DTSTART;TZID=America/New_York:20240620T200000
DTEND;TZID=America/New_York:20240620T200000
DTSTAMP:20260424T203423
CREATED:20240213T133355Z
LAST-MODIFIED:20240801T193756Z
UID:10006572-1718913600-1718913600@fishercenter.bard.edu
SUMMARY:Ulysses
DESCRIPTION:
URL:https://fishercenter.bard.edu/events/ulysses/
LOCATION:Fisher Center\, LUMA Theater
CATEGORIES:Bard SummerScape
ATTACH;FMTTYPE=image/png:https://fishercenter.bard.edu/wp-content/uploads/2024/02/ERS-Critics-Pick.png
END:VEVENT
BEGIN:VEVENT
DTSTART;TZID=America/New_York:20240511T193000
DTEND;TZID=America/New_York:20240511T193000
DTSTAMP:20260424T203423
CREATED:20231213T120222Z
LAST-MODIFIED:20240507T025526Z
UID:10006550-1715455800-1715455800@fishercenter.bard.edu
SUMMARY:I Can't Remember Anything Ever Having Ended
DESCRIPTION:
URL:https://fishercenter.bard.edu/events/senior-projects-in-dance-7/2024-05-11/2/
LOCATION:Fisher Center\, LUMA Theater
CATEGORIES:Dance Program
ATTACH;FMTTYPE=image/png:https://fishercenter.bard.edu/wp-content/uploads/2023/12/Untitled-design-3.png
END:VEVENT
BEGIN:VEVENT
DTSTART;TZID=America/New_York:20240511T140000
DTEND;TZID=America/New_York:20240511T140000
DTSTAMP:20260424T203423
CREATED:20231213T120222Z
LAST-MODIFIED:20240507T025526Z
UID:10006549-1715436000-1715436000@fishercenter.bard.edu
SUMMARY:I Can't Remember Anything Ever Having Ended
DESCRIPTION:
URL:https://fishercenter.bard.edu/events/senior-projects-in-dance-7/2024-05-11/1/
LOCATION:Fisher Center\, LUMA Theater
CATEGORIES:Dance Program
ATTACH;FMTTYPE=image/png:https://fishercenter.bard.edu/wp-content/uploads/2023/12/Untitled-design-3.png
END:VEVENT
BEGIN:VEVENT
DTSTART;TZID=America/New_York:20240510T193000
DTEND;TZID=America/New_York:20240510T193000
DTSTAMP:20260424T203423
CREATED:20231213T120222Z
LAST-MODIFIED:20240507T025526Z
UID:10006548-1715369400-1715369400@fishercenter.bard.edu
SUMMARY:I Can't Remember Anything Ever Having Ended
DESCRIPTION:
URL:https://fishercenter.bard.edu/events/senior-projects-in-dance-7/
LOCATION:Fisher Center\, LUMA Theater
CATEGORIES:Dance Program
ATTACH;FMTTYPE=image/png:https://fishercenter.bard.edu/wp-content/uploads/2023/12/Untitled-design-3.png
END:VEVENT
BEGIN:VEVENT
DTSTART;TZID=America/New_York:20240509T193000
DTEND;TZID=America/New_York:20240509T193000
DTSTAMP:20260424T203423
CREATED:20231213T120222Z
LAST-MODIFIED:20240507T025526Z
UID:10006547-1715283000-1715283000@fishercenter.bard.edu
SUMMARY:I Can't Remember Anything Ever Having Ended
DESCRIPTION:
URL:https://fishercenter.bard.edu/events/senior-projects-in-dance-7/
LOCATION:Fisher Center\, LUMA Theater
CATEGORIES:Dance Program
ATTACH;FMTTYPE=image/png:https://fishercenter.bard.edu/wp-content/uploads/2023/12/Untitled-design-3.png
END:VEVENT
BEGIN:VEVENT
DTSTART;TZID=America/New_York:20240427T193000
DTEND;TZID=America/New_York:20240427T193000
DTSTAMP:20260424T203423
CREATED:20231213T120227Z
LAST-MODIFIED:20240417T193802Z
UID:10006566-1714246200-1714246200@fishercenter.bard.edu
SUMMARY:Faculty Dance Concert
DESCRIPTION:
URL:https://fishercenter.bard.edu/events/facdance-24/2024-04-27/2/
LOCATION:Fisher Center\, LUMA Theater
CATEGORIES:Dance Program
ATTACH;FMTTYPE=image/jpeg:https://fishercenter.bard.edu/wp-content/uploads/2023/12/FACULTY-DANCE-1-scaled.jpg
END:VEVENT
BEGIN:VEVENT
DTSTART;TZID=America/New_York:20240427T140000
DTEND;TZID=America/New_York:20240427T140000
DTSTAMP:20260424T203423
CREATED:20231213T120227Z
LAST-MODIFIED:20240417T193802Z
UID:10006565-1714226400-1714226400@fishercenter.bard.edu
SUMMARY:Faculty Dance Concert
DESCRIPTION:
URL:https://fishercenter.bard.edu/events/facdance-24/2024-04-27/1/
LOCATION:Fisher Center\, LUMA Theater
CATEGORIES:Dance Program
ATTACH;FMTTYPE=image/jpeg:https://fishercenter.bard.edu/wp-content/uploads/2023/12/FACULTY-DANCE-1-scaled.jpg
END:VEVENT
BEGIN:VEVENT
DTSTART;TZID=America/New_York:20240426T193000
DTEND;TZID=America/New_York:20240426T193000
DTSTAMP:20260424T203423
CREATED:20231213T120227Z
LAST-MODIFIED:20240417T193802Z
UID:10006564-1714159800-1714159800@fishercenter.bard.edu
SUMMARY:Faculty Dance Concert
DESCRIPTION:
URL:https://fishercenter.bard.edu/events/facdance-24/
LOCATION:Fisher Center\, LUMA Theater
CATEGORIES:Dance Program
ATTACH;FMTTYPE=image/jpeg:https://fishercenter.bard.edu/wp-content/uploads/2023/12/FACULTY-DANCE-1-scaled.jpg
END:VEVENT
BEGIN:VEVENT
DTSTART;TZID=America/New_York:20240425T193000
DTEND;TZID=America/New_York:20240425T193000
DTSTAMP:20260424T203423
CREATED:20231213T120227Z
LAST-MODIFIED:20240417T193802Z
UID:10006563-1714073400-1714073400@fishercenter.bard.edu
SUMMARY:Faculty Dance Concert
DESCRIPTION:
URL:https://fishercenter.bard.edu/events/facdance-24/
LOCATION:Fisher Center\, LUMA Theater
CATEGORIES:Dance Program
ATTACH;FMTTYPE=image/jpeg:https://fishercenter.bard.edu/wp-content/uploads/2023/12/FACULTY-DANCE-1-scaled.jpg
END:VEVENT
BEGIN:VEVENT
DTSTART;TZID=America/New_York:20240414T160000
DTEND;TZID=America/New_York:20240414T160000
DTSTAMP:20260424T203423
CREATED:20231213T120225Z
LAST-MODIFIED:20240326T182358Z
UID:10006562-1713110400-1713110400@fishercenter.bard.edu
SUMMARY:Urinetown
DESCRIPTION:
URL:https://fishercenter.bard.edu/events/urinetown/
LOCATION:Fisher Center\, LUMA Theater
CATEGORIES:Theater & Performance Program
ATTACH;FMTTYPE=image/jpeg:https://fishercenter.bard.edu/wp-content/uploads/2023/12/Urinetown-Website-Image.jpg
END:VEVENT
BEGIN:VEVENT
DTSTART;TZID=America/New_York:20240413T193000
DTEND;TZID=America/New_York:20240413T193000
DTSTAMP:20260424T203423
CREATED:20231213T120225Z
LAST-MODIFIED:20240326T182358Z
UID:10006561-1713036600-1713036600@fishercenter.bard.edu
SUMMARY:Urinetown
DESCRIPTION:
URL:https://fishercenter.bard.edu/events/urinetown/2024-04-13/2/
LOCATION:Fisher Center\, LUMA Theater
CATEGORIES:Theater & Performance Program
ATTACH;FMTTYPE=image/jpeg:https://fishercenter.bard.edu/wp-content/uploads/2023/12/Urinetown-Website-Image.jpg
END:VEVENT
BEGIN:VEVENT
DTSTART;TZID=America/New_York:20240413T140000
DTEND;TZID=America/New_York:20240413T140000
DTSTAMP:20260424T203423
CREATED:20231213T120225Z
LAST-MODIFIED:20240326T182358Z
UID:10006560-1713016800-1713016800@fishercenter.bard.edu
SUMMARY:Urinetown
DESCRIPTION:
URL:https://fishercenter.bard.edu/events/urinetown/2024-04-13/1/
LOCATION:Fisher Center\, LUMA Theater
CATEGORIES:Theater & Performance Program
ATTACH;FMTTYPE=image/jpeg:https://fishercenter.bard.edu/wp-content/uploads/2023/12/Urinetown-Website-Image.jpg
END:VEVENT
BEGIN:VEVENT
DTSTART;TZID=America/New_York:20240412T193000
DTEND;TZID=America/New_York:20240412T193000
DTSTAMP:20260424T203423
CREATED:20231213T120225Z
LAST-MODIFIED:20240326T182358Z
UID:10006559-1712950200-1712950200@fishercenter.bard.edu
SUMMARY:Urinetown
DESCRIPTION:
URL:https://fishercenter.bard.edu/events/urinetown/
LOCATION:Fisher Center\, LUMA Theater
CATEGORIES:Theater & Performance Program
ATTACH;FMTTYPE=image/jpeg:https://fishercenter.bard.edu/wp-content/uploads/2023/12/Urinetown-Website-Image.jpg
END:VEVENT
BEGIN:VEVENT
DTSTART;TZID=America/New_York:20240310T133000
DTEND;TZID=America/New_York:20240310T133000
DTSTAMP:20260424T203423
CREATED:20231213T120223Z
LAST-MODIFIED:20241211T231423Z
UID:10006554-1710077400-1710077400@fishercenter.bard.edu
SUMMARY:Spring Dance Concert
DESCRIPTION:
URL:https://fishercenter.bard.edu/events/spring-dance-concert/
LOCATION:Fisher Center\, LUMA Theater
CATEGORIES:Dance Program
ATTACH;FMTTYPE=image/jpeg:https://fishercenter.bard.edu/wp-content/uploads/2023/12/SPRING-DANCE-1-e1702057681409.jpg
END:VEVENT
BEGIN:VEVENT
DTSTART;TZID=America/New_York:20240309T193000
DTEND;TZID=America/New_York:20240309T193000
DTSTAMP:20260424T203423
CREATED:20231213T120223Z
LAST-MODIFIED:20241211T231423Z
UID:10006553-1710012600-1710012600@fishercenter.bard.edu
SUMMARY:Spring Dance Concert
DESCRIPTION:
URL:https://fishercenter.bard.edu/events/spring-dance-concert/2024-03-09/2/
LOCATION:Fisher Center\, LUMA Theater
CATEGORIES:Dance Program
ATTACH;FMTTYPE=image/jpeg:https://fishercenter.bard.edu/wp-content/uploads/2023/12/SPRING-DANCE-1-e1702057681409.jpg
END:VEVENT
BEGIN:VEVENT
DTSTART;TZID=America/New_York:20240309T133000
DTEND;TZID=America/New_York:20240309T133000
DTSTAMP:20260424T203423
CREATED:20231213T120223Z
LAST-MODIFIED:20241211T231423Z
UID:10006552-1709991000-1709991000@fishercenter.bard.edu
SUMMARY:Spring Dance Concert
DESCRIPTION:
URL:https://fishercenter.bard.edu/events/spring-dance-concert/2024-03-09/1/
LOCATION:Fisher Center\, LUMA Theater
CATEGORIES:Dance Program
ATTACH;FMTTYPE=image/jpeg:https://fishercenter.bard.edu/wp-content/uploads/2023/12/SPRING-DANCE-1-e1702057681409.jpg
END:VEVENT
BEGIN:VEVENT
DTSTART;TZID=America/New_York:20240308T193000
DTEND;TZID=America/New_York:20240308T193000
DTSTAMP:20260424T203423
CREATED:20231213T120223Z
LAST-MODIFIED:20241211T231423Z
UID:10006551-1709926200-1709926200@fishercenter.bard.edu
SUMMARY:Spring Dance Concert
DESCRIPTION:
URL:https://fishercenter.bard.edu/events/spring-dance-concert/
LOCATION:Fisher Center\, LUMA Theater
CATEGORIES:Dance Program
ATTACH;FMTTYPE=image/jpeg:https://fishercenter.bard.edu/wp-content/uploads/2023/12/SPRING-DANCE-1-e1702057681409.jpg
END:VEVENT
BEGIN:VEVENT
DTSTART;TZID=America/New_York:20240303T160000
DTEND;TZID=America/New_York:20240303T160000
DTSTAMP:20260424T203423
CREATED:20231213T120224Z
LAST-MODIFIED:20231213T120224Z
UID:10006558-1709481600-1709481600@fishercenter.bard.edu
SUMMARY:Senior Projects Festival
DESCRIPTION:
URL:https://fishercenter.bard.edu/events/senior-projects-festival/
LOCATION:Fisher Center\, LUMA Theater
CATEGORIES:Theater & Performance Program
ATTACH;FMTTYPE=image/jpeg:https://fishercenter.bard.edu/wp-content/uploads/2023/12/SPROJ-2-scaled-e1702057525281.jpg
END:VEVENT
BEGIN:VEVENT
DTSTART;TZID=America/New_York:20240302T193000
DTEND;TZID=America/New_York:20240302T193000
DTSTAMP:20260424T203423
CREATED:20231213T120224Z
LAST-MODIFIED:20231213T120224Z
UID:10006557-1709407800-1709407800@fishercenter.bard.edu
SUMMARY:Senior Projects Festival
DESCRIPTION:
URL:https://fishercenter.bard.edu/events/senior-projects-festival/2024-03-02/2/
LOCATION:Fisher Center\, LUMA Theater
CATEGORIES:Theater & Performance Program
ATTACH;FMTTYPE=image/jpeg:https://fishercenter.bard.edu/wp-content/uploads/2023/12/SPROJ-2-scaled-e1702057525281.jpg
END:VEVENT
BEGIN:VEVENT
DTSTART;TZID=America/New_York:20240302T140000
DTEND;TZID=America/New_York:20240302T140000
DTSTAMP:20260424T203424
CREATED:20231213T120224Z
LAST-MODIFIED:20231213T120224Z
UID:10006556-1709388000-1709388000@fishercenter.bard.edu
SUMMARY:Senior Projects Festival
DESCRIPTION:
URL:https://fishercenter.bard.edu/events/senior-projects-festival/2024-03-02/1/
LOCATION:Fisher Center\, LUMA Theater
CATEGORIES:Theater & Performance Program
ATTACH;FMTTYPE=image/jpeg:https://fishercenter.bard.edu/wp-content/uploads/2023/12/SPROJ-2-scaled-e1702057525281.jpg
END:VEVENT
BEGIN:VEVENT
DTSTART;TZID=America/New_York:20240301T193000
DTEND;TZID=America/New_York:20240301T193000
DTSTAMP:20260424T203424
CREATED:20231213T120224Z
LAST-MODIFIED:20231213T120224Z
UID:10006555-1709321400-1709321400@fishercenter.bard.edu
SUMMARY:Senior Projects Festival
DESCRIPTION:
URL:https://fishercenter.bard.edu/events/senior-projects-festival/
LOCATION:Fisher Center\, LUMA Theater
CATEGORIES:Theater & Performance Program
ATTACH;FMTTYPE=image/jpeg:https://fishercenter.bard.edu/wp-content/uploads/2023/12/SPROJ-2-scaled-e1702057525281.jpg
END:VEVENT
BEGIN:VEVENT
DTSTART;TZID=America/New_York:20240204T140000
DTEND;TZID=America/New_York:20240204T140000
DTSTAMP:20260424T203424
CREATED:20231213T120221Z
LAST-MODIFIED:20240125T155456Z
UID:10005603-1707055200-1707055200@fishercenter.bard.edu
SUMMARY:Sweet Little Lies
DESCRIPTION:
URL:https://fishercenter.bard.edu/events/sweet-little-lies/
LOCATION:Fisher Center\, LUMA Theater
CATEGORIES:Bard Conservatory,Music Program
ATTACH;FMTTYPE=image/png:https://fishercenter.bard.edu/wp-content/uploads/2023/12/Sweet-Little-Lies-2.png
END:VEVENT
END:VCALENDAR